Back to Multiple platform build/check report for BioC 3.11 |
|
This page was generated on 2020-01-16 13:42:57 -0500 (Thu, 16 Jan 2020).
Package 446/1818 | Hostname | OS / Arch | INSTALL | BUILD | CHECK | BUILD BIN | ||||||
destiny 3.1.0 Philipp Angerer
| malbec2 | Linux (Ubuntu 18.04.3 LTS) / x86_64 | OK | ERROR | skipped | |||||||
tokay2 | Windows Server 2012 R2 Standard / x64 | OK | OK | ERROR | OK | |||||||
celaya2 | OS X 10.11.6 El Capitan / x86_64 | OK | [ OK ] | ERROR | OK |
Package: destiny |
Version: 3.1.0 |
Command: /Library/Frameworks/R.framework/Versions/Current/Resources/bin/R CMD build --keep-empty-dirs --no-resave-data destiny |
StartedAt: 2020-01-15 22:10:51 -0500 (Wed, 15 Jan 2020) |
EndedAt: 2020-01-15 22:13:57 -0500 (Wed, 15 Jan 2020) |
EllapsedTime: 186.6 seconds |
RetCode: 0 |
Status: OK |
PackageFile: destiny_3.1.0.tar.gz |
PackageFileSize: 8.334 MiB |
############################################################################## ############################################################################## ### ### Running command: ### ### /Library/Frameworks/R.framework/Versions/Current/Resources/bin/R CMD build --keep-empty-dirs --no-resave-data destiny ### ############################################################################## ############################################################################## * checking for file ‘destiny/DESCRIPTION’ ... OK * preparing ‘destiny’: * checking DESCRIPTION meta-information ... OK * cleaning src * installing the package to build vignettes * creating vignettes ... OK * cleaning src * checking for LF line-endings in source and make files and shell scripts * checking for empty or unneeded directories WARNING: directory ‘destiny/build’ is empty * looking to see if a ‘data/datalist’ file should be added * building ‘destiny_3.1.0.tar.gz’