Back to Multiple platform build/check report for BioC 3.11 |
|
This page was generated on 2020-01-16 13:36:36 -0500 (Thu, 16 Jan 2020).
Package 1509/1818 | Hostname | OS / Arch | INSTALL | BUILD | CHECK | BUILD BIN | ||||||
Alex J. Cornish
| malbec2 | Linux (Ubuntu 18.04.3 LTS) / x86_64 | OK | ERROR | skipped | |||||||
tokay2 | Windows Server 2012 R2 Standard / x64 | OK | ERROR | skipped | skipped | |||||||
celaya2 | OS X 10.11.6 El Capitan / x86_64 | [ OK ] | ERROR | skipped | skipped |
Package: SANTA |
Version: 2.25.1 |
Command: /Library/Frameworks/R.framework/Versions/Current/Resources/bin/R CMD INSTALL SANTA |
StartedAt: 2020-01-15 18:28:43 -0500 (Wed, 15 Jan 2020) |
EndedAt: 2020-01-15 18:29:01 -0500 (Wed, 15 Jan 2020) |
EllapsedTime: 18.2 seconds |
RetCode: 0 |
Status: OK |
############################################################################## ############################################################################## ### ### Running command: ### ### /Library/Frameworks/R.framework/Versions/Current/Resources/bin/R CMD INSTALL SANTA ### ############################################################################## ############################################################################## * installing to library ‘/Library/Frameworks/R.framework/Versions/4.0/Resources/library’ * installing *source* package ‘SANTA’ ... ** using staged installation ** libs clang -I"/Library/Frameworks/R.framework/Resources/include" -DNDEBUG -isysroot /Library/Developer/CommandLineTools/SDKs/MacOSX.sdk -I/usr/local/include -fPIC -Wall -g -O2 -c computenetK_fewzeros.c -o computenetK_fewzeros.o clang -I"/Library/Frameworks/R.framework/Resources/include" -DNDEBUG -isysroot /Library/Developer/CommandLineTools/SDKs/MacOSX.sdk -I/usr/local/include -fPIC -Wall -g -O2 -c computenetK_manyzeros.c -o computenetK_manyzeros.o computenetK_manyzeros.c:29:24: warning: incompatible pointer types assigning to 'int *' from 'char *' [-Wincompatible-pointer-types] p_which_vw_nonzero = R_alloc(n_nonzero_vertices, sizeof(int)); ^ ~~~~~~~~~~~~~~~~~~~~~~~~~~~~~~~~~~~~~~~~ 1 warning generated. clang -I"/Library/Frameworks/R.framework/Resources/include" -DNDEBUG -isysroot /Library/Developer/CommandLineTools/SDKs/MacOSX.sdk -I/usr/local/include -fPIC -Wall -g -O2 -c computenodeAUK.c -o computenodeAUK.o clang -I"/Library/Frameworks/R.framework/Resources/include" -DNDEBUG -isysroot /Library/Developer/CommandLineTools/SDKs/MacOSX.sdk -I/usr/local/include -fPIC -Wall -g -O2 -c computeweights.c -o computeweights.o clang -dynamiclib -Wl,-headerpad_max_install_names -undefined dynamic_lookup -single_module -multiply_defined suppress -L/Library/Frameworks/R.framework/Resources/lib -L/usr/local/lib -o SANTA.so computenetK_fewzeros.o computenetK_manyzeros.o computenodeAUK.o computeweights.o -F/Library/Frameworks/R.framework/.. -framework R -Wl,-framework -Wl,CoreFoundation installing to /Library/Frameworks/R.framework/Versions/4.0/Resources/library/00LOCK-SANTA/00new/SANTA/libs ** R ** data ** inst ** byte-compile and prepare package for lazy loading ** help *** installing help indices ** building package indices ** installing vignettes ** testing if installed package can be loaded from temporary location Warning: Package 'SANTA' is deprecated and will be removed from Bioconductor version 3.12 ** checking absolute paths in shared objects and dynamic libraries ** testing if installed package can be loaded from final location Warning: Package 'SANTA' is deprecated and will be removed from Bioconductor version 3.12 ** testing if installed package keeps a record of temporary installation path * DONE (SANTA)