| Back to Multiple platform build/check report for BioC 3.11 |
|
This page was generated on 2020-01-16 13:41:04 -0500 (Thu, 16 Jan 2020).
| Package 598/1818 | Hostname | OS / Arch | INSTALL | BUILD | CHECK | BUILD BIN | ||||||
| FlowSOM 1.19.1 Sofie Van Gassen
| malbec2 | Linux (Ubuntu 18.04.3 LTS) / x86_64 | OK | OK | WARNINGS | |||||||
| tokay2 | Windows Server 2012 R2 Standard / x64 | OK | OK | WARNINGS | OK | |||||||
| celaya2 | OS X 10.11.6 El Capitan / x86_64 | OK | OK | WARNINGS | [ OK ] |
| Package: FlowSOM |
| Version: 1.19.1 |
| Command: rm -rf FlowSOM.buildbin-libdir && mkdir FlowSOM.buildbin-libdir && /Users/biocbuild/BBS/utils/build-universal.sh FlowSOM_1.19.1.tar.gz /Library/Frameworks/R.framework/Versions/Current/Resources/bin/R FlowSOM.buildbin-libdir |
| StartedAt: 2020-01-16 10:55:17 -0500 (Thu, 16 Jan 2020) |
| EndedAt: 2020-01-16 10:55:53 -0500 (Thu, 16 Jan 2020) |
| EllapsedTime: 35.1 seconds |
| RetCode: 0 |
| Status: OK |
| PackageFile: FlowSOM_1.19.1.tgz |
| PackageFileSize: 2.587 MiB |
##############################################################################
##############################################################################
###
### Running command:
###
### rm -rf FlowSOM.buildbin-libdir && mkdir FlowSOM.buildbin-libdir && /Users/biocbuild/BBS/utils/build-universal.sh FlowSOM_1.19.1.tar.gz /Library/Frameworks/R.framework/Versions/Current/Resources/bin/R FlowSOM.buildbin-libdir
###
##############################################################################
##############################################################################
>>>>>>>
>>>>>>> INSTALLATION WITH 'R CMD INSTALL --preclean --no-multiarch --library=FlowSOM.buildbin-libdir FlowSOM_1.19.1.tar.gz'
>>>>>>>
* installing *source* package ‘FlowSOM’ ...
** using staged installation
** libs
clang -I"/Library/Frameworks/R.framework/Resources/include" -DNDEBUG -isysroot /Library/Developer/CommandLineTools/SDKs/MacOSX.sdk -I/usr/local/include -fPIC -Wall -g -O2 -c som.c -o som.o
som.c:37:18: warning: using integer absolute value function 'abs' when argument is of floating point type [-Wabsolute-value]
xdist += abs(tmp);
^
som.c:37:18: note: use function 'fabs' instead
xdist += abs(tmp);
^~~
fabs
som.c:47:15: warning: using integer absolute value function 'abs' when argument is of floating point type [-Wabsolute-value]
tmp = abs(tmp);
^
som.c:47:15: note: use function 'fabs' instead
tmp = abs(tmp);
^~~
fabs
som.c:134:27: warning: using integer absolute value function 'abs' when argument is of floating point type [-Wabsolute-value]
change += abs(tmp);
^
som.c:134:27: note: use function 'fabs' instead
change += abs(tmp);
^~~
fabs
3 warnings generated.
clang -dynamiclib -Wl,-headerpad_max_install_names -undefined dynamic_lookup -single_module -multiply_defined suppress -L/Library/Frameworks/R.framework/Resources/lib -L/usr/local/lib -o FlowSOM.so som.o -F/Library/Frameworks/R.framework/.. -framework R -Wl,-framework -Wl,CoreFoundation
installing to /Users/biocbuild/bbs-3.11-bioc/meat/FlowSOM.buildbin-libdir/00LOCK-FlowSOM/00new/FlowSOM/libs
** R
** inst
** byte-compile and prepare package for lazy loading
Warning: replacing previous import ‘ncdfFlow::filter’ by ‘dplyr::filter’ when loading ‘CytoML’
** help
*** installing help indices
** building package indices
** installing vignettes
** testing if installed package can be loaded from temporary location
Warning: replacing previous import ‘ncdfFlow::filter’ by ‘dplyr::filter’ when loading ‘CytoML’
** checking absolute paths in shared objects and dynamic libraries
** testing if installed package can be loaded from final location
Warning: replacing previous import ‘ncdfFlow::filter’ by ‘dplyr::filter’ when loading ‘CytoML’
** testing if installed package keeps a record of temporary installation path
* DONE (FlowSOM)
>>>>>>>
>>>>>>> FIXING LINKS FOR FlowSOM.buildbin-libdir/FlowSOM/libs//FlowSOM.so
>>>>>>>
install_name_tool -change "/usr/local/lib/libgcc_s.1.dylib" "/Library/Frameworks/R.framework/Versions/4.0/Resources/lib/libgcc_s.1.dylib" "FlowSOM.buildbin-libdir/FlowSOM/libs//FlowSOM.so"
install_name_tool -change "/usr/local/lib/libgfortran.3.dylib" "/Library/Frameworks/R.framework/Versions/4.0/Resources/lib/libgfortran.3.dylib" "FlowSOM.buildbin-libdir/FlowSOM/libs//FlowSOM.so"
install_name_tool -change "/usr/local/lib/libreadline.5.2.dylib" "/Library/Frameworks/R.framework/Versions/4.0/Resources/lib/libreadline.5.2.dylib" "FlowSOM.buildbin-libdir/FlowSOM/libs//FlowSOM.so"
install_name_tool -change "/usr/local/lib/libreadline.dylib" "/Library/Frameworks/R.framework/Versions/4.0/Resources/lib/libreadline.dylib" "FlowSOM.buildbin-libdir/FlowSOM/libs//FlowSOM.so"
install_name_tool -change "/usr/local/lib/libquadmath.0.dylib" "/Library/Frameworks/R.framework/Versions/4.0/Resources/lib/libquadmath.0.dylib" "FlowSOM.buildbin-libdir/FlowSOM/libs//FlowSOM.so"