| Back to Multiple platform build/check report for BioC 3.11 |
|
This page was generated on 2020-01-16 13:39:37 -0500 (Thu, 16 Jan 2020).
| Package 929/1818 | Hostname | OS / Arch | INSTALL | BUILD | CHECK | BUILD BIN | ||||||
| M3D 1.21.0 Tom Mayo
| malbec2 | Linux (Ubuntu 18.04.3 LTS) / x86_64 | ERROR | ERROR | skipped | |||||||
| tokay2 | Windows Server 2012 R2 Standard / x64 | ERROR | ERROR | skipped | skipped | |||||||
| celaya2 | OS X 10.11.6 El Capitan / x86_64 | ERROR | [ ERROR ] | skipped | skipped |
| Package: M3D |
| Version: 1.21.0 |
| Command: /Library/Frameworks/R.framework/Versions/Current/Resources/bin/R CMD build --keep-empty-dirs --no-resave-data M3D |
| StartedAt: 2020-01-15 21:37:02 -0500 (Wed, 15 Jan 2020) |
| EndedAt: 2020-01-15 21:37:04 -0500 (Wed, 15 Jan 2020) |
| EllapsedTime: 1.5 seconds |
| RetCode: 1 |
| Status: ERROR |
| PackageFile: None |
| PackageFileSize: NA |
##############################################################################
##############################################################################
###
### Running command:
###
### /Library/Frameworks/R.framework/Versions/Current/Resources/bin/R CMD build --keep-empty-dirs --no-resave-data M3D
###
##############################################################################
##############################################################################
* checking for file ‘M3D/DESCRIPTION’ ... OK
* preparing ‘M3D’:
* checking DESCRIPTION meta-information ... OK
* cleaning src
* installing the package to build vignettes
-----------------------------------
ERROR: dependency ‘BiSeq’ is not available for package ‘M3D’
* removing ‘/private/tmp/RtmpeCW6YN/Rinst150f7718181da/M3D’
-----------------------------------
ERROR: package installation failed