| Back to Multiple platform build/check report for BioC 3.11 |
|
This page was generated on 2020-01-16 13:47:55 -0500 (Thu, 16 Jan 2020).
| Package 1287/1818 | Hostname | OS / Arch | INSTALL | BUILD | CHECK | BUILD BIN | ||||||
| PPInfer 1.13.0 Dongmin Jung
| malbec2 | Linux (Ubuntu 18.04.3 LTS) / x86_64 | OK | OK | ERROR | |||||||
| tokay2 | Windows Server 2012 R2 Standard / x64 | OK | OK | ERROR | OK | |||||||
| celaya2 | OS X 10.11.6 El Capitan / x86_64 | OK | [ OK ] | ERROR | OK |
| Package: PPInfer |
| Version: 1.13.0 |
| Command: /Library/Frameworks/R.framework/Versions/Current/Resources/bin/R CMD build --keep-empty-dirs --no-resave-data PPInfer |
| StartedAt: 2020-01-15 23:24:54 -0500 (Wed, 15 Jan 2020) |
| EndedAt: 2020-01-15 23:26:13 -0500 (Wed, 15 Jan 2020) |
| EllapsedTime: 79.5 seconds |
| RetCode: 0 |
| Status: OK |
| PackageFile: PPInfer_1.13.0.tar.gz |
| PackageFileSize: 244.4 KiB |
##############################################################################
##############################################################################
###
### Running command:
###
### /Library/Frameworks/R.framework/Versions/Current/Resources/bin/R CMD build --keep-empty-dirs --no-resave-data PPInfer
###
##############################################################################
##############################################################################
* checking for file ‘PPInfer/DESCRIPTION’ ... OK
* preparing ‘PPInfer’:
* checking DESCRIPTION meta-information ... OK
* installing the package to process help pages
* saving partial Rd database
* creating vignettes ... OK
Warning: ‘inst/doc’ file
‘PPInfer.pdf’
ignored as vignettes have been rebuilt.
Run R CMD build with --no-build-vignettes to prevent rebuilding.
* checking for LF line-endings in source and make files and shell scripts
* checking for empty or unneeded directories
* building ‘PPInfer_1.13.0.tar.gz’