| Back to Multiple platform build/check report for BioC 3.11 |
|
This page was generated on 2020-01-16 13:34:40 -0500 (Thu, 16 Jan 2020).
| Package 338/1818 | Hostname | OS / Arch | INSTALL | BUILD | CHECK | BUILD BIN | ||||||
| coGPS 1.31.0 Yingying Wei
| malbec2 | Linux (Ubuntu 18.04.3 LTS) / x86_64 | OK | OK | OK | |||||||
| tokay2 | Windows Server 2012 R2 Standard / x64 | OK | OK | OK | OK | |||||||
| celaya2 | OS X 10.11.6 El Capitan / x86_64 | OK | [ OK ] | OK | OK |
| Package: coGPS |
| Version: 1.31.0 |
| Command: /Library/Frameworks/R.framework/Versions/Current/Resources/bin/R CMD build --keep-empty-dirs --no-resave-data coGPS |
| StartedAt: 2020-01-15 20:46:20 -0500 (Wed, 15 Jan 2020) |
| EndedAt: 2020-01-15 20:46:34 -0500 (Wed, 15 Jan 2020) |
| EllapsedTime: 14.6 seconds |
| RetCode: 0 |
| Status: OK |
| PackageFile: coGPS_1.31.0.tar.gz |
| PackageFileSize: 1.683 MiB |
############################################################################## ############################################################################## ### ### Running command: ### ### /Library/Frameworks/R.framework/Versions/Current/Resources/bin/R CMD build --keep-empty-dirs --no-resave-data coGPS ### ############################################################################## ############################################################################## * checking for file ‘coGPS/DESCRIPTION’ ... OK * preparing ‘coGPS’: * checking DESCRIPTION meta-information ... OK * installing the package to build vignettes * creating vignettes ... OK * checking for LF line-endings in source and make files and shell scripts * checking for empty or unneeded directories * looking to see if a ‘data/datalist’ file should be added * building ‘coGPS_1.31.0.tar.gz’