| Back to Multiple platform build/check report for BioC 3.11 | 
 | 
This page was generated on 2020-01-16 13:55:38 -0500 (Thu, 16 Jan 2020).
| Package 1698/1818 | Hostname | OS / Arch | INSTALL | BUILD | CHECK | BUILD BIN | ||||||
| target 1.1.0 Mahmoud Ahmed 
 | malbec2 | Linux (Ubuntu 18.04.3 LTS) / x86_64 | OK | OK | OK |  | ||||||
| tokay2 | Windows Server 2012 R2 Standard / x64 | OK | OK | OK | NA | |||||||
| celaya2 | OS X 10.11.6 El Capitan / x86_64 | OK | [ OK ] | OK | OK |  | 
| Package: target | 
| Version: 1.1.0 | 
| Command: /Library/Frameworks/R.framework/Versions/Current/Resources/bin/R CMD build --keep-empty-dirs --no-resave-data target | 
| StartedAt: 2020-01-16 00:59:22 -0500 (Thu, 16 Jan 2020) | 
| EndedAt: 2020-01-16 01:01:05 -0500 (Thu, 16 Jan 2020) | 
| EllapsedTime: 102.5 seconds | 
| RetCode: 0 | 
| Status: OK | 
| PackageFile: target_1.1.0.tar.gz | 
| PackageFileSize: 3.481 MiB | 
############################################################################## ############################################################################## ### ### Running command: ### ### /Library/Frameworks/R.framework/Versions/Current/Resources/bin/R CMD build --keep-empty-dirs --no-resave-data target ### ############################################################################## ############################################################################## * checking for file ‘target/DESCRIPTION’ ... OK * preparing ‘target’: * checking DESCRIPTION meta-information ... OK * installing the package to build vignettes * creating vignettes ... OK * checking for LF line-endings in source and make files and shell scripts * checking for empty or unneeded directories * building ‘target_1.1.0.tar.gz’