| Back to Multiple platform build/check report for BioC 3.11 |
|
This page was generated on 2020-01-16 13:50:56 -0500 (Thu, 16 Jan 2020).
| Package 1715/1818 | Hostname | OS / Arch | INSTALL | BUILD | CHECK | BUILD BIN | ||||||
| TFutils 1.7.0 Shweta Gopaulakrishnan
| malbec2 | Linux (Ubuntu 18.04.3 LTS) / x86_64 | OK | OK | WARNINGS | |||||||
| tokay2 | Windows Server 2012 R2 Standard / x64 | OK | ERROR | skipped | skipped | |||||||
| celaya2 | OS X 10.11.6 El Capitan / x86_64 | OK | [ OK ] | WARNINGS | OK |
| Package: TFutils |
| Version: 1.7.0 |
| Command: /Library/Frameworks/R.framework/Versions/Current/Resources/bin/R CMD build --keep-empty-dirs --no-resave-data TFutils |
| StartedAt: 2020-01-15 23:56:50 -0500 (Wed, 15 Jan 2020) |
| EndedAt: 2020-01-15 23:58:44 -0500 (Wed, 15 Jan 2020) |
| EllapsedTime: 114.0 seconds |
| RetCode: 0 |
| Status: OK |
| PackageFile: TFutils_1.7.0.tar.gz |
| PackageFileSize: 6.034 MiB |
############################################################################## ############################################################################## ### ### Running command: ### ### /Library/Frameworks/R.framework/Versions/Current/Resources/bin/R CMD build --keep-empty-dirs --no-resave-data TFutils ### ############################################################################## ############################################################################## * checking for file ‘TFutils/DESCRIPTION’ ... OK * preparing ‘TFutils’: * checking DESCRIPTION meta-information ... OK * installing the package to build vignettes * creating vignettes ... OK * checking for LF line-endings in source and make files and shell scripts * checking for empty or unneeded directories * building ‘TFutils_1.7.0.tar.gz’