| Back to Multiple platform build/check report for BioC 3.11 | 
 | 
This page was generated on 2020-01-16 13:46:37 -0500 (Thu, 16 Jan 2020).
| Package 1305/1818 | Hostname | OS / Arch | INSTALL | BUILD | CHECK | BUILD BIN | ||||||
| proFIA 1.13.0 Alexis Delabriere 
 | malbec2 | Linux (Ubuntu 18.04.3 LTS) / x86_64 | OK | OK | WARNINGS |  | ||||||
| tokay2 | Windows Server 2012 R2 Standard / x64 | OK | OK | WARNINGS | OK | |||||||
| celaya2 | OS X 10.11.6 El Capitan / x86_64 | OK | [ OK ] | WARNINGS | OK |  | 
| Package: proFIA | 
| Version: 1.13.0 | 
| Command: /Library/Frameworks/R.framework/Versions/Current/Resources/bin/R CMD build --keep-empty-dirs --no-resave-data proFIA | 
| StartedAt: 2020-01-15 23:08:17 -0500 (Wed, 15 Jan 2020) | 
| EndedAt: 2020-01-15 23:13:52 -0500 (Wed, 15 Jan 2020) | 
| EllapsedTime: 335.6 seconds | 
| RetCode: 0 | 
| Status: OK | 
| PackageFile: proFIA_1.13.0.tar.gz | 
| PackageFileSize: 2.037 MiB | 
############################################################################## ############################################################################## ### ### Running command: ### ### /Library/Frameworks/R.framework/Versions/Current/Resources/bin/R CMD build --keep-empty-dirs --no-resave-data proFIA ### ############################################################################## ############################################################################## * checking for file ‘proFIA/DESCRIPTION’ ... OK * preparing ‘proFIA’: * checking DESCRIPTION meta-information ... OK * cleaning src * installing the package to build vignettes * creating vignettes ... OK * cleaning src * checking for LF line-endings in source and make files and shell scripts * checking for empty or unneeded directories * building ‘proFIA_1.13.0.tar.gz’