| Back to Multiple platform build/check report for BioC 3.11 |
|
This page was generated on 2020-01-16 13:42:55 -0500 (Thu, 16 Jan 2020).
| Package 896/1818 | Hostname | OS / Arch | INSTALL | BUILD | CHECK | BUILD BIN | ||||||
| LedPred 1.21.0 Aitor Gonzalez
| malbec2 | Linux (Ubuntu 18.04.3 LTS) / x86_64 | OK | OK | OK | |||||||
| tokay2 | Windows Server 2012 R2 Standard / x64 | OK | OK | OK | OK | |||||||
| celaya2 | OS X 10.11.6 El Capitan / x86_64 | OK | [ OK ] | OK | OK |
| Package: LedPred |
| Version: 1.21.0 |
| Command: /Library/Frameworks/R.framework/Versions/Current/Resources/bin/R CMD build --keep-empty-dirs --no-resave-data LedPred |
| StartedAt: 2020-01-15 22:10:43 -0500 (Wed, 15 Jan 2020) |
| EndedAt: 2020-01-15 22:11:08 -0500 (Wed, 15 Jan 2020) |
| EllapsedTime: 24.7 seconds |
| RetCode: 0 |
| Status: OK |
| PackageFile: LedPred_1.21.0.tar.gz |
| PackageFileSize: 1.384 MiB |
##############################################################################
##############################################################################
###
### Running command:
###
### /Library/Frameworks/R.framework/Versions/Current/Resources/bin/R CMD build --keep-empty-dirs --no-resave-data LedPred
###
##############################################################################
##############################################################################
* checking for file ‘LedPred/DESCRIPTION’ ... OK
* preparing ‘LedPred’:
* checking DESCRIPTION meta-information ... OK
* installing the package to build vignettes
* creating vignettes ... OK
Warning: ‘inst/doc’ files
‘LedPred.Rnw’, ‘LedPred.pdf’, ‘LedPred.R’
ignored as vignettes have been rebuilt.
Run R CMD build with --no-build-vignettes to prevent rebuilding.
* checking for LF line-endings in source and make files and shell scripts
* checking for empty or unneeded directories
* building ‘LedPred_1.21.0.tar.gz’