| Back to Multiple platform build/check report for BioC 3.11 |
|
This page was generated on 2020-01-16 13:54:08 -0500 (Thu, 16 Jan 2020).
| Package 359/1818 | Hostname | OS / Arch | INSTALL | BUILD | CHECK | BUILD BIN | ||||||
| CopyNumberPlots 1.3.3 Bernat Gel
| malbec2 | Linux (Ubuntu 18.04.3 LTS) / x86_64 | OK | OK | OK | |||||||
| tokay2 | Windows Server 2012 R2 Standard / x64 | OK | OK | OK | OK | |||||||
| celaya2 | OS X 10.11.6 El Capitan / x86_64 | OK | [ OK ] | OK | OK |
| Package: CopyNumberPlots |
| Version: 1.3.3 |
| Command: /Library/Frameworks/R.framework/Versions/Current/Resources/bin/R CMD build --keep-empty-dirs --no-resave-data CopyNumberPlots |
| StartedAt: 2020-01-16 00:41:20 -0500 (Thu, 16 Jan 2020) |
| EndedAt: 2020-01-16 00:43:36 -0500 (Thu, 16 Jan 2020) |
| EllapsedTime: 135.9 seconds |
| RetCode: 0 |
| Status: OK |
| PackageFile: CopyNumberPlots_1.3.3.tar.gz |
| PackageFileSize: 3.458 MiB |
############################################################################## ############################################################################## ### ### Running command: ### ### /Library/Frameworks/R.framework/Versions/Current/Resources/bin/R CMD build --keep-empty-dirs --no-resave-data CopyNumberPlots ### ############################################################################## ############################################################################## * checking for file ‘CopyNumberPlots/DESCRIPTION’ ... OK * preparing ‘CopyNumberPlots’: * checking DESCRIPTION meta-information ... OK * installing the package to build vignettes * creating vignettes ... OK * checking for LF line-endings in source and make files and shell scripts * checking for empty or unneeded directories * building ‘CopyNumberPlots_1.3.3.tar.gz’