| Back to Multiple platform build/check report for BioC 3.11 |
|
This page was generated on 2020-01-16 13:41:33 -0500 (Thu, 16 Jan 2020).
| Package 895/1818 | Hostname | OS / Arch | INSTALL | BUILD | CHECK | BUILD BIN | ||||||
| LEA 2.9.0 Eric Frichot
| malbec2 | Linux (Ubuntu 18.04.3 LTS) / x86_64 | OK | OK | OK | |||||||
| tokay2 | Windows Server 2012 R2 Standard / x64 | OK | OK | OK | OK | |||||||
| celaya2 | OS X 10.11.6 El Capitan / x86_64 | OK | [ OK ] | WARNINGS | OK |
| Package: LEA |
| Version: 2.9.0 |
| Command: /Library/Frameworks/R.framework/Versions/Current/Resources/bin/R CMD build --keep-empty-dirs --no-resave-data LEA |
| StartedAt: 2020-01-15 21:58:24 -0500 (Wed, 15 Jan 2020) |
| EndedAt: 2020-01-15 22:00:59 -0500 (Wed, 15 Jan 2020) |
| EllapsedTime: 154.9 seconds |
| RetCode: 0 |
| Status: OK |
| PackageFile: LEA_2.9.0.tar.gz |
| PackageFileSize: 512 KiB |
############################################################################## ############################################################################## ### ### Running command: ### ### /Library/Frameworks/R.framework/Versions/Current/Resources/bin/R CMD build --keep-empty-dirs --no-resave-data LEA ### ############################################################################## ############################################################################## * checking for file ‘LEA/DESCRIPTION’ ... OK * preparing ‘LEA’: * checking DESCRIPTION meta-information ... OK * cleaning src * installing the package to build vignettes * creating vignettes ... OK * cleaning src * checking for LF line-endings in source and make files and shell scripts * checking for empty or unneeded directories WARNING: directory ‘LEA/vignettes/LEA_analyses’ is empty * looking to see if a ‘data/datalist’ file should be added * building ‘LEA_2.9.0.tar.gz’