| Back to Multiple platform build/check report for BioC 3.11 | 
 | 
This page was generated on 2020-01-16 13:50:31 -0500 (Thu, 16 Jan 2020).
| Package 628/1818 | Hostname | OS / Arch | INSTALL | BUILD | CHECK | BUILD BIN | ||||||
| GARS 1.7.0 Mattia Chiesa 
 | malbec2 | Linux (Ubuntu 18.04.3 LTS) / x86_64 | OK | OK | OK |  | ||||||
| tokay2 | Windows Server 2012 R2 Standard / x64 | OK | OK | OK | OK |  | ||||||
| celaya2 | OS X 10.11.6 El Capitan / x86_64 | OK | OK | OK | [ OK ] |  | 
| Package: GARS | 
| Version: 1.7.0 | 
| Command: rm -rf GARS.buildbin-libdir && mkdir GARS.buildbin-libdir && /Users/biocbuild/BBS/utils/build-universal.sh GARS_1.7.0.tar.gz /Library/Frameworks/R.framework/Versions/Current/Resources/bin/R GARS.buildbin-libdir | 
| StartedAt: 2020-01-16 10:56:53 -0500 (Thu, 16 Jan 2020) | 
| EndedAt: 2020-01-16 10:58:09 -0500 (Thu, 16 Jan 2020) | 
| EllapsedTime: 76.0 seconds | 
| RetCode: 0 | 
| Status: OK | 
| PackageFile: GARS_1.7.0.tgz | 
| PackageFileSize: 475.5 KiB | 
############################################################################## ############################################################################## ### ### Running command: ### ### rm -rf GARS.buildbin-libdir && mkdir GARS.buildbin-libdir && /Users/biocbuild/BBS/utils/build-universal.sh GARS_1.7.0.tar.gz /Library/Frameworks/R.framework/Versions/Current/Resources/bin/R GARS.buildbin-libdir ### ############################################################################## ############################################################################## >>>>>>> >>>>>>> INSTALLATION WITH 'R CMD INSTALL --preclean --no-multiarch --library=GARS.buildbin-libdir GARS_1.7.0.tar.gz' >>>>>>> * installing *source* package ‘GARS’ ... ** using staged installation ** R ** data *** moving datasets to lazyload DB ** inst ** byte-compile and prepare package for lazy loading ** help *** installing help indices ** building package indices ** installing vignettes ** testing if installed package can be loaded from temporary location ** testing if installed package can be loaded from final location ** testing if installed package keeps a record of temporary installation path * DONE (GARS)