Back to Multiple platform build/check report for BioC 3.11 |
|
This page was generated on 2020-01-16 13:49:03 -0500 (Thu, 16 Jan 2020).
Package 1193/1818 | Hostname | OS / Arch | INSTALL | BUILD | CHECK | BUILD BIN | ||||||
openPrimeRui 1.9.1 Matthias Döring
| malbec2 | Linux (Ubuntu 18.04.3 LTS) / x86_64 | OK | OK | OK | |||||||
tokay2 | Windows Server 2012 R2 Standard / x64 | OK | OK | OK | OK | |||||||
celaya2 | OS X 10.11.6 El Capitan / x86_64 | OK | [ OK ] | OK | OK |
Package: openPrimeRui |
Version: 1.9.1 |
Command: /Library/Frameworks/R.framework/Versions/Current/Resources/bin/R CMD build --keep-empty-dirs --no-resave-data openPrimeRui |
StartedAt: 2020-01-15 23:35:41 -0500 (Wed, 15 Jan 2020) |
EndedAt: 2020-01-15 23:36:14 -0500 (Wed, 15 Jan 2020) |
EllapsedTime: 33.1 seconds |
RetCode: 0 |
Status: OK |
PackageFile: openPrimeRui_1.9.1.tar.gz |
PackageFileSize: 3.658 MiB |
############################################################################## ############################################################################## ### ### Running command: ### ### /Library/Frameworks/R.framework/Versions/Current/Resources/bin/R CMD build --keep-empty-dirs --no-resave-data openPrimeRui ### ############################################################################## ############################################################################## * checking for file ‘openPrimeRui/DESCRIPTION’ ... OK * preparing ‘openPrimeRui’: * checking DESCRIPTION meta-information ... OK * installing the package to build vignettes * creating vignettes ... OK * checking for LF line-endings in source and make files and shell scripts * checking for empty or unneeded directories * building ‘openPrimeRui_1.9.1.tar.gz’