| Back to Multiple platform build/check report for BioC 3.11 |
|
This page was generated on 2020-01-16 13:37:28 -0500 (Thu, 16 Jan 2020).
| Package 1097/1818 | Hostname | OS / Arch | INSTALL | BUILD | CHECK | BUILD BIN | ||||||
| msmsTests 1.25.0 Josep Gregori i Font
| malbec2 | Linux (Ubuntu 18.04.3 LTS) / x86_64 | OK | OK | OK | |||||||
| tokay2 | Windows Server 2012 R2 Standard / x64 | OK | OK | OK | OK | |||||||
| celaya2 | OS X 10.11.6 El Capitan / x86_64 | OK | [ OK ] | OK | OK |
| Package: msmsTests |
| Version: 1.25.0 |
| Command: /Library/Frameworks/R.framework/Versions/Current/Resources/bin/R CMD build --keep-empty-dirs --no-resave-data msmsTests |
| StartedAt: 2020-01-15 21:12:12 -0500 (Wed, 15 Jan 2020) |
| EndedAt: 2020-01-15 21:13:46 -0500 (Wed, 15 Jan 2020) |
| EllapsedTime: 94.3 seconds |
| RetCode: 0 |
| Status: OK |
| PackageFile: msmsTests_1.25.0.tar.gz |
| PackageFileSize: 313.4 KiB |
############################################################################## ############################################################################## ### ### Running command: ### ### /Library/Frameworks/R.framework/Versions/Current/Resources/bin/R CMD build --keep-empty-dirs --no-resave-data msmsTests ### ############################################################################## ############################################################################## * checking for file ‘msmsTests/DESCRIPTION’ ... OK * preparing ‘msmsTests’: * checking DESCRIPTION meta-information ... OK * installing the package to build vignettes * creating vignettes ... OK * checking for LF line-endings in source and make files and shell scripts * checking for empty or unneeded directories * looking to see if a ‘data/datalist’ file should be added * building ‘msmsTests_1.25.0.tar.gz’