| Back to Multiple platform build/check report for BioC 3.11 |
|
This page was generated on 2020-01-16 13:32:11 -0500 (Thu, 16 Jan 2020).
| Package 259/1818 | Hostname | OS / Arch | INSTALL | BUILD | CHECK | BUILD BIN | ||||||
| CGHnormaliter 1.41.0 Bart P.P. van Houte
| malbec2 | Linux (Ubuntu 18.04.3 LTS) / x86_64 | OK | OK | OK | |||||||
| tokay2 | Windows Server 2012 R2 Standard / x64 | OK | OK | OK | OK | |||||||
| celaya2 | OS X 10.11.6 El Capitan / x86_64 | OK | [ OK ] | OK | OK |
| Package: CGHnormaliter |
| Version: 1.41.0 |
| Command: /Library/Frameworks/R.framework/Versions/Current/Resources/bin/R CMD build --keep-empty-dirs --no-resave-data CGHnormaliter |
| StartedAt: 2020-01-15 20:14:56 -0500 (Wed, 15 Jan 2020) |
| EndedAt: 2020-01-15 20:19:07 -0500 (Wed, 15 Jan 2020) |
| EllapsedTime: 250.1 seconds |
| RetCode: 0 |
| Status: OK |
| PackageFile: CGHnormaliter_1.41.0.tar.gz |
| PackageFileSize: 999.9 KiB |
############################################################################## ############################################################################## ### ### Running command: ### ### /Library/Frameworks/R.framework/Versions/Current/Resources/bin/R CMD build --keep-empty-dirs --no-resave-data CGHnormaliter ### ############################################################################## ############################################################################## * checking for file ‘CGHnormaliter/DESCRIPTION’ ... OK * preparing ‘CGHnormaliter’: * checking DESCRIPTION meta-information ... OK * installing the package to build vignettes * creating vignettes ... OK * checking for LF line-endings in source and make files and shell scripts * checking for empty or unneeded directories * looking to see if a ‘data/datalist’ file should be added * building ‘CGHnormaliter_1.41.0.tar.gz’