| Back to Multiple platform build/check report for BioC 3.11 |
|
This page was generated on 2020-01-16 13:50:45 -0500 (Thu, 16 Jan 2020).
| Package 18/1818 | Hostname | OS / Arch | INSTALL | BUILD | CHECK | BUILD BIN | ||||||
| adaptest 1.7.1 Weixin Cai
| malbec2 | Linux (Ubuntu 18.04.3 LTS) / x86_64 | OK | OK | OK | |||||||
| tokay2 | Windows Server 2012 R2 Standard / x64 | OK | OK | OK | OK | |||||||
| celaya2 | OS X 10.11.6 El Capitan / x86_64 | OK | [ OK ] | OK | OK |
| Package: adaptest |
| Version: 1.7.1 |
| Command: /Library/Frameworks/R.framework/Versions/Current/Resources/bin/R CMD build --keep-empty-dirs --no-resave-data adaptest |
| StartedAt: 2020-01-15 23:54:25 -0500 (Wed, 15 Jan 2020) |
| EndedAt: 2020-01-15 23:55:58 -0500 (Wed, 15 Jan 2020) |
| EllapsedTime: 92.6 seconds |
| RetCode: 0 |
| Status: OK |
| PackageFile: adaptest_1.7.1.tar.gz |
| PackageFileSize: 1.144 MiB |
############################################################################## ############################################################################## ### ### Running command: ### ### /Library/Frameworks/R.framework/Versions/Current/Resources/bin/R CMD build --keep-empty-dirs --no-resave-data adaptest ### ############################################################################## ############################################################################## * checking for file ‘adaptest/DESCRIPTION’ ... OK * preparing ‘adaptest’: * checking DESCRIPTION meta-information ... OK * installing the package to build vignettes * creating vignettes ... OK * checking for LF line-endings in source and make files and shell scripts * checking for empty or unneeded directories * building ‘adaptest_1.7.1.tar.gz’