| Back to Multiple platform build/check report for BioC 3.11 |
|
This page was generated on 2020-01-16 13:47:21 -0500 (Thu, 16 Jan 2020).
| Package 545/1818 | Hostname | OS / Arch | INSTALL | BUILD | CHECK | BUILD BIN | ||||||
| EventPointer 2.5.0 Juan Pablo Romero
| malbec2 | Linux (Ubuntu 18.04.3 LTS) / x86_64 | OK | OK | OK | |||||||
| tokay2 | Windows Server 2012 R2 Standard / x64 | OK | OK | OK | OK | |||||||
| celaya2 | OS X 10.11.6 El Capitan / x86_64 | OK | OK | [ OK ] | OK |
| Package: EventPointer |
| Version: 2.5.0 |
| Command: /Library/Frameworks/R.framework/Versions/Current/Resources/bin/R CMD check --install=check:EventPointer.install-out.txt --library=/Library/Frameworks/R.framework/Versions/Current/Resources/library --no-vignettes --timings EventPointer_2.5.0.tar.gz |
| StartedAt: 2020-01-16 04:18:39 -0500 (Thu, 16 Jan 2020) |
| EndedAt: 2020-01-16 04:28:40 -0500 (Thu, 16 Jan 2020) |
| EllapsedTime: 601.3 seconds |
| RetCode: 0 |
| Status: OK |
| CheckDir: EventPointer.Rcheck |
| Warnings: 0 |
##############################################################################
##############################################################################
###
### Running command:
###
### /Library/Frameworks/R.framework/Versions/Current/Resources/bin/R CMD check --install=check:EventPointer.install-out.txt --library=/Library/Frameworks/R.framework/Versions/Current/Resources/library --no-vignettes --timings EventPointer_2.5.0.tar.gz
###
##############################################################################
##############################################################################
* using log directory ‘/Users/biocbuild/bbs-3.11-bioc/meat/EventPointer.Rcheck’
* using R Under development (unstable) (2019-12-14 r77572)
* using platform: x86_64-apple-darwin15.6.0 (64-bit)
* using session charset: UTF-8
* using option ‘--no-vignettes’
* checking for file ‘EventPointer/DESCRIPTION’ ... OK
* checking extension type ... Package
* this is package ‘EventPointer’ version ‘2.5.0’
* checking package namespace information ... OK
* checking package dependencies ... OK
* checking if this is a source package ... OK
* checking if there is a namespace ... OK
* checking for hidden files and directories ... OK
* checking for portable file names ... OK
* checking for sufficient/correct file permissions ... OK
* checking whether package ‘EventPointer’ can be installed ... OK
* checking installed package size ... OK
* checking package directory ... OK
* checking ‘build’ directory ... OK
* checking DESCRIPTION meta-information ... OK
* checking top-level files ... OK
* checking for left-over files ... OK
* checking index information ... OK
* checking package subdirectories ... OK
* checking R files for non-ASCII characters ... OK
* checking R files for syntax errors ... OK
* checking whether the package can be loaded ... OK
* checking whether the package can be loaded with stated dependencies ... OK
* checking whether the package can be unloaded cleanly ... OK
* checking whether the namespace can be loaded with stated dependencies ... OK
* checking whether the namespace can be unloaded cleanly ... OK
* checking dependencies in R code ... NOTE
Unexported objects imported by ':::' calls:
‘SGSeq:::addFeatureID’ ‘SGSeq:::addGeneID’ ‘SGSeq:::edges’
‘SGSeq:::exonGraph’ ‘SGSeq:::feature2name’ ‘SGSeq:::matchSGFeatures’
‘SGSeq:::nodes’ ‘SGSeq:::propagateAnnotation’
‘SGSeq:::splitCharacterList’
See the note in ?`:::` about the use of this operator.
* checking S3 generic/method consistency ... OK
* checking replacement functions ... OK
* checking foreign function calls ... OK
* checking R code for possible problems ... NOTE
annotate2: no visible global function definition for
‘addDummySpliceSites’
annotate2: no visible global function definition for ‘annotatePaths’
annotateFeatures2: no visible global function definition for
‘matchTxFeatures’
Undefined global functions or variables:
addDummySpliceSites annotatePaths matchTxFeatures
* checking Rd files ... OK
* checking Rd metadata ... OK
* checking Rd cross-references ... OK
* checking for missing documentation entries ... OK
* checking for code/documentation mismatches ... OK
* checking Rd \usage sections ... OK
* checking Rd contents ... OK
* checking for unstated dependencies in examples ... OK
* checking contents of ‘data’ directory ... OK
* checking data for non-ASCII characters ... OK
* checking data for ASCII and uncompressed saves ... OK
* checking files in ‘vignettes’ ... OK
* checking examples ... OK
Examples with CPU (user + system) or elapsed time > 5s
user system elapsed
CDFfromGTF 13.213 0.762 14.797
EventsGTFfromTrancriptomeGTF 10.453 0.055 10.855
CDFfromGTF_Multipath 9.820 0.192 10.239
EventPointer_RNASeq_IGV 8.644 0.077 9.176
EventPointer_IGV 6.441 0.044 6.815
* checking for unstated dependencies in ‘tests’ ... OK
* checking tests ...
Running ‘runTests.R’
OK
* checking for unstated dependencies in vignettes ... OK
* checking package vignettes in ‘inst/doc’ ... OK
* checking running R code from vignettes ... SKIPPED
* checking re-building of vignette outputs ... SKIPPED
* checking PDF version of manual ... OK
* DONE
Status: 2 NOTEs
See
‘/Users/biocbuild/bbs-3.11-bioc/meat/EventPointer.Rcheck/00check.log’
for details.
EventPointer.Rcheck/00install.out
############################################################################## ############################################################################## ### ### Running command: ### ### /Library/Frameworks/R.framework/Versions/Current/Resources/bin/R CMD INSTALL EventPointer ### ############################################################################## ############################################################################## * installing to library ‘/Library/Frameworks/R.framework/Versions/4.0/Resources/library’ * installing *source* package ‘EventPointer’ ... ** using staged installation ** R ** data *** moving datasets to lazyload DB ** inst ** byte-compile and prepare package for lazy loading ** help *** installing help indices ** building package indices ** installing vignettes ** testing if installed package can be loaded from temporary location ** testing if installed package can be loaded from final location ** testing if installed package keeps a record of temporary installation path * DONE (EventPointer)
EventPointer.Rcheck/tests/runTests.Rout
R Under development (unstable) (2019-12-14 r77572) -- "Unsuffered Consequences"
Copyright (C) 2019 The R Foundation for Statistical Computing
Platform: x86_64-apple-darwin15.6.0 (64-bit)
R is free software and comes with ABSOLUTELY NO WARRANTY.
You are welcome to redistribute it under certain conditions.
Type 'license()' or 'licence()' for distribution details.
R is a collaborative project with many contributors.
Type 'contributors()' for more information and
'citation()' on how to cite R or R packages in publications.
Type 'demo()' for some demos, 'help()' for on-line help, or
'help.start()' for an HTML browser interface to help.
Type 'q()' to quit R.
> BiocGenerics:::testPackage("EventPointer")
Attaching package: 'BiocGenerics'
The following objects are masked from 'package:parallel':
clusterApply, clusterApplyLB, clusterCall, clusterEvalQ,
clusterExport, clusterMap, parApply, parCapply, parLapply,
parLapplyLB, parRapply, parSapply, parSapplyLB
The following objects are masked from 'package:stats':
IQR, mad, sd, var, xtabs
The following objects are masked from 'package:base':
Filter, Find, Map, Position, Reduce, anyDuplicated, append,
as.data.frame, basename, cbind, colnames, dirname, do.call,
duplicated, eval, evalq, get, grep, grepl, intersect, is.unsorted,
lapply, mapply, match, mget, order, paste, pmax, pmax.int, pmin,
pmin.int, rank, rbind, rownames, sapply, setdiff, sort, table,
tapply, union, unique, unsplit, which, which.max, which.min
Attaching package: 'S4Vectors'
The following object is masked from 'package:base':
expand.grid
Attaching package: 'Biostrings'
The following object is masked from 'package:base':
strsplit
Welcome to Bioconductor
Vignettes contain introductory material; view with
'browseVignettes()'. To cite Bioconductor, see
'citation("Biobase")', and for packages 'citation("pkgname")'.
Attaching package: 'matrixStats'
The following objects are masked from 'package:Biobase':
anyMissing, rowMedians
Attaching package: 'DelayedArray'
The following objects are masked from 'package:matrixStats':
colMaxs, colMins, colRanges, rowMaxs, rowMins, rowRanges
The following objects are masked from 'package:base':
aperm, apply, rowsum
Attaching package: 'Matrix'
The following object is masked from 'package:S4Vectors':
expand
Creating SG Information...Creating SG Information...
Obtaining Events
|
| | 0%
|
|============ | 17%
|
|======================= | 33%
|
|=================================== | 50%
|
|=============================================== | 67%
|
|========================================================== | 83%
|
|======================================================================| 100%
Obtaining Events
|
| | 0%
|
|============ | 17%
|
|======================= | 33%
|
|=================================== | 50%
|
|=============================================== | 67%
|
|========================================================== | 83%
|
|======================================================================| 100%
Creating SG Information...Creating SG Information...Creating SG Information...Creating SG Information...Creating SG Information...Import genomic features from the file as a GRanges object ... OK
Prepare the 'metadata' data frame ... OK
Make the TxDb object ... OK
|
| | 0%
|
|=================================== | 50%
|
|======================================================================| 100%
Creating .txt ...
.txt created
Creating .GTF ...
|
| | 0%
|
|======== | 11%
|
|================ | 22%
|
|======================= | 33%
|
|=============================== | 44%
|
|======================================= | 56%
|
|=============================================== | 67%
|
|====================================================== | 78%
|
|============================================================== | 89%
|
|======================================================================| 100%
.txt created
Creating the sparseMatrix of paths x transcripts...
******FINISHED******
RUNIT TEST PROTOCOL -- Thu Jan 16 04:28:31 2020
***********************************************
Number of test functions: 13
Number of errors: 0
Number of failures: 0
1 Test Suite :
EventPointer RUnit Tests - 13 test functions, 0 errors, 0 failures
Number of test functions: 13
Number of errors: 0
Number of failures: 0
>
> proc.time()
user system elapsed
43.100 2.803 47.071
EventPointer.Rcheck/EventPointer-Ex.timings
| name | user | system | elapsed | |
| CDFfromGTF | 13.213 | 0.762 | 14.797 | |
| CDFfromGTF_Multipath | 9.820 | 0.192 | 10.239 | |
| EventDetection | 3.968 | 0.196 | 4.166 | |
| EventDetectionMultipath | 1.929 | 0.017 | 1.948 | |
| EventPointer | 0.081 | 0.007 | 0.089 | |
| EventPointer_IGV | 6.441 | 0.044 | 6.815 | |
| EventPointer_RNASeq | 0.156 | 0.006 | 0.161 | |
| EventPointer_RNASeq_IGV | 8.644 | 0.077 | 9.176 | |
| EventPointer_RNASeq_TranRef | 0.031 | 0.009 | 0.040 | |
| EventsGTFfromTrancriptomeGTF | 10.453 | 0.055 | 10.855 | |
| FindPrimers | 0.000 | 0.000 | 0.001 | |
| GetPSI_FromTranRef | 0.033 | 0.006 | 0.040 | |
| PSI_Statistic | 0.178 | 0.006 | 0.188 | |
| PrepareBam_EP | 0.000 | 0.000 | 0.001 | |
| getbootstrapkallisto | 0.471 | 0.055 | 0.548 | |