| Back to Multiple platform build/check report for BioC 3.11 |
|
This page was generated on 2020-01-16 13:54:06 -0500 (Thu, 16 Jan 2020).
| Package 802/1818 | Hostname | OS / Arch | INSTALL | BUILD | CHECK | BUILD BIN | ||||||
| HumanTranscriptomeCompendium 1.3.0 VJ Carey
| malbec2 | Linux (Ubuntu 18.04.3 LTS) / x86_64 | OK | OK | OK | |||||||
| tokay2 | Windows Server 2012 R2 Standard / x64 | OK | ERROR | skipped | skipped | |||||||
| celaya2 | OS X 10.11.6 El Capitan / x86_64 | OK | [ OK ] | OK | OK |
| Package: HumanTranscriptomeCompendium |
| Version: 1.3.0 |
| Command: /Library/Frameworks/R.framework/Versions/Current/Resources/bin/R CMD build --keep-empty-dirs --no-resave-data HumanTranscriptomeCompendium |
| StartedAt: 2020-01-16 00:40:50 -0500 (Thu, 16 Jan 2020) |
| EndedAt: 2020-01-16 00:42:13 -0500 (Thu, 16 Jan 2020) |
| EllapsedTime: 82.9 seconds |
| RetCode: 0 |
| Status: OK |
| PackageFile: HumanTranscriptomeCompendium_1.3.0.tar.gz |
| PackageFileSize: 2.798 MiB |
############################################################################## ############################################################################## ### ### Running command: ### ### /Library/Frameworks/R.framework/Versions/Current/Resources/bin/R CMD build --keep-empty-dirs --no-resave-data HumanTranscriptomeCompendium ### ############################################################################## ############################################################################## * checking for file ‘HumanTranscriptomeCompendium/DESCRIPTION’ ... OK * preparing ‘HumanTranscriptomeCompendium’: * checking DESCRIPTION meta-information ... OK * installing the package to build vignettes * creating vignettes ... OK * checking for LF line-endings in source and make files and shell scripts * checking for empty or unneeded directories * building ‘HumanTranscriptomeCompendium_1.3.0.tar.gz’