| Back to Multiple platform build/check report for BioC 3.11 |
|
This page was generated on 2020-01-16 13:32:18 -0500 (Thu, 16 Jan 2020).
| Package 686/1818 | Hostname | OS / Arch | INSTALL | BUILD | CHECK | BUILD BIN | ||||||
James Bullard
| malbec2 | Linux (Ubuntu 18.04.3 LTS) / x86_64 | ERROR | ERROR | skipped | |||||||
| tokay2 | Windows Server 2012 R2 Standard / x64 | ERROR | ERROR | skipped | skipped | |||||||
| celaya2 | OS X 10.11.6 El Capitan / x86_64 | ERROR | [ ERROR ] | skipped | skipped |
| Package: Genominator |
| Version: 1.41.1 |
| Command: /Library/Frameworks/R.framework/Versions/Current/Resources/bin/R CMD build --keep-empty-dirs --no-resave-data Genominator |
| StartedAt: 2020-01-15 20:17:57 -0500 (Wed, 15 Jan 2020) |
| EndedAt: 2020-01-15 20:18:01 -0500 (Wed, 15 Jan 2020) |
| EllapsedTime: 3.6 seconds |
| RetCode: 1 |
| Status: ERROR |
| PackageFile: None |
| PackageFileSize: NA |
##############################################################################
##############################################################################
###
### Running command:
###
### /Library/Frameworks/R.framework/Versions/Current/Resources/bin/R CMD build --keep-empty-dirs --no-resave-data Genominator
###
##############################################################################
##############################################################################
* checking for file ‘Genominator/DESCRIPTION’ ... OK
* preparing ‘Genominator’:
* checking DESCRIPTION meta-information ... OK
* installing the package to build vignettes
-----------------------------------
ERROR: dependency ‘GenomeGraphs’ is not available for package ‘Genominator’
* removing ‘/private/tmp/Rtmpm6BKIZ/Rinst15e58222643ff/Genominator’
-----------------------------------
ERROR: package installation failed