| Back to Multiple platform build/check report for BioC 3.11 |
|
This page was generated on 2020-01-16 13:30:48 -0500 (Thu, 16 Jan 2020).
| Package 136/1818 | Hostname | OS / Arch | INSTALL | BUILD | CHECK | BUILD BIN | ||||||
| bgx 1.53.0 Ernest Turro
| malbec2 | Linux (Ubuntu 18.04.3 LTS) / x86_64 | OK | OK | OK | |||||||
| tokay2 | Windows Server 2012 R2 Standard / x64 | OK | OK | OK | OK | |||||||
| celaya2 | OS X 10.11.6 El Capitan / x86_64 | OK | [ OK ] | WARNINGS | OK |
| Package: bgx |
| Version: 1.53.0 |
| Command: /Library/Frameworks/R.framework/Versions/Current/Resources/bin/R CMD build --keep-empty-dirs --no-resave-data bgx |
| StartedAt: 2020-01-15 20:02:13 -0500 (Wed, 15 Jan 2020) |
| EndedAt: 2020-01-15 20:04:01 -0500 (Wed, 15 Jan 2020) |
| EllapsedTime: 107.9 seconds |
| RetCode: 0 |
| Status: OK |
| PackageFile: bgx_1.53.0.tar.gz |
| PackageFileSize: 1.233 MiB |
############################################################################## ############################################################################## ### ### Running command: ### ### /Library/Frameworks/R.framework/Versions/Current/Resources/bin/R CMD build --keep-empty-dirs --no-resave-data bgx ### ############################################################################## ############################################################################## * checking for file ‘bgx/DESCRIPTION’ ... OK * preparing ‘bgx’: * checking DESCRIPTION meta-information ... OK * cleaning src * installing the package to build vignettes * creating vignettes ... OK * cleaning src * checking for LF line-endings in source and make files and shell scripts * checking for empty or unneeded directories * building ‘bgx_1.53.0.tar.gz’