| Back to Multiple platform build/check report for BioC 3.11 |
|
This page was generated on 2020-01-16 13:44:16 -0500 (Thu, 16 Jan 2020).
| Package 1466/1818 | Hostname | OS / Arch | INSTALL | BUILD | CHECK | BUILD BIN | ||||||
| ROTS 1.15.1 Tomi Suomi
| malbec2 | Linux (Ubuntu 18.04.3 LTS) / x86_64 | OK | OK | OK | |||||||
| tokay2 | Windows Server 2012 R2 Standard / x64 | OK | OK | OK | OK | |||||||
| celaya2 | OS X 10.11.6 El Capitan / x86_64 | OK | [ OK ] | OK | OK |
| Package: ROTS |
| Version: 1.15.1 |
| Command: /Library/Frameworks/R.framework/Versions/Current/Resources/bin/R CMD build --keep-empty-dirs --no-resave-data ROTS |
| StartedAt: 2020-01-15 22:28:55 -0500 (Wed, 15 Jan 2020) |
| EndedAt: 2020-01-15 22:30:03 -0500 (Wed, 15 Jan 2020) |
| EllapsedTime: 67.2 seconds |
| RetCode: 0 |
| Status: OK |
| PackageFile: ROTS_1.15.1.tar.gz |
| PackageFileSize: 326.9 KiB |
############################################################################## ############################################################################## ### ### Running command: ### ### /Library/Frameworks/R.framework/Versions/Current/Resources/bin/R CMD build --keep-empty-dirs --no-resave-data ROTS ### ############################################################################## ############################################################################## * checking for file ‘ROTS/DESCRIPTION’ ... OK * preparing ‘ROTS’: * checking DESCRIPTION meta-information ... OK * cleaning src * installing the package to build vignettes * creating vignettes ... OK * cleaning src * checking for LF line-endings in source and make files and shell scripts * checking for empty or unneeded directories * building ‘ROTS_1.15.1.tar.gz’