| Back to Multiple platform build/check report for BioC 3.11 |
|
This page was generated on 2020-01-16 13:43:20 -0500 (Thu, 16 Jan 2020).
| Package 492/1818 | Hostname | OS / Arch | INSTALL | BUILD | CHECK | BUILD BIN | ||||||
| dupRadar 1.17.0 Sergi Sayols
| malbec2 | Linux (Ubuntu 18.04.3 LTS) / x86_64 | OK | OK | OK | |||||||
| tokay2 | Windows Server 2012 R2 Standard / x64 | ...NOT SUPPORTED... | ||||||||||
| celaya2 | OS X 10.11.6 El Capitan / x86_64 | OK | [ OK ] | OK | OK | |||||||
| Package: dupRadar |
| Version: 1.17.0 |
| Command: /Library/Frameworks/R.framework/Versions/Current/Resources/bin/R CMD build --keep-empty-dirs --no-resave-data dupRadar |
| StartedAt: 2020-01-15 22:15:54 -0500 (Wed, 15 Jan 2020) |
| EndedAt: 2020-01-15 22:17:07 -0500 (Wed, 15 Jan 2020) |
| EllapsedTime: 73.9 seconds |
| RetCode: 0 |
| Status: OK |
| PackageFile: dupRadar_1.17.0.tar.gz |
| PackageFileSize: 4.572 MiB |
############################################################################## ############################################################################## ### ### Running command: ### ### /Library/Frameworks/R.framework/Versions/Current/Resources/bin/R CMD build --keep-empty-dirs --no-resave-data dupRadar ### ############################################################################## ############################################################################## * checking for file ‘dupRadar/DESCRIPTION’ ... OK * preparing ‘dupRadar’: * checking DESCRIPTION meta-information ... OK * installing the package to build vignettes * creating vignettes ... OK * checking for LF line-endings in source and make files and shell scripts * checking for empty or unneeded directories * building ‘dupRadar_1.17.0.tar.gz’