| Back to Multiple platform build/check report for BioC 3.11 |
|
This page was generated on 2020-01-16 13:43:31 -0500 (Thu, 16 Jan 2020).
| Package 1315/1818 | Hostname | OS / Arch | INSTALL | BUILD | CHECK | BUILD BIN | ||||||
| Prostar 1.19.11 Samuel Wieczorek
| malbec2 | Linux (Ubuntu 18.04.3 LTS) / x86_64 | OK | OK | OK | |||||||
| tokay2 | Windows Server 2012 R2 Standard / x64 | OK | OK | OK | OK | |||||||
| celaya2 | OS X 10.11.6 El Capitan / x86_64 | OK | [ OK ] | OK | OK |
| Package: Prostar |
| Version: 1.19.11 |
| Command: /Library/Frameworks/R.framework/Versions/Current/Resources/bin/R CMD build --keep-empty-dirs --no-resave-data Prostar |
| StartedAt: 2020-01-15 22:19:12 -0500 (Wed, 15 Jan 2020) |
| EndedAt: 2020-01-15 22:20:21 -0500 (Wed, 15 Jan 2020) |
| EllapsedTime: 69.9 seconds |
| RetCode: 0 |
| Status: OK |
| PackageFile: Prostar_1.19.11.tar.gz |
| PackageFileSize: 4.785 MiB |
##############################################################################
##############################################################################
###
### Running command:
###
### /Library/Frameworks/R.framework/Versions/Current/Resources/bin/R CMD build --keep-empty-dirs --no-resave-data Prostar
###
##############################################################################
##############################################################################
* checking for file ‘Prostar/DESCRIPTION’ ... OK
* preparing ‘Prostar’:
* checking DESCRIPTION meta-information ... OK
* installing the package to build vignettes
* creating vignettes ... OK
Warning: ‘inst/doc’ file
‘Prostar_UserManual.pdf’
ignored as vignettes have been rebuilt.
Run R CMD build with --no-build-vignettes to prevent rebuilding.
* checking for LF line-endings in source and make files and shell scripts
* checking for empty or unneeded directories
* building ‘Prostar_1.19.11.tar.gz’