| Back to Multiple platform build/check report for BioC 3.11 |
|
This page was generated on 2020-01-16 13:30:12 -0500 (Thu, 16 Jan 2020).
| Package 934/1818 | Hostname | OS / Arch | INSTALL | BUILD | CHECK | BUILD BIN | ||||||
| maCorrPlot 1.57.1 Alexander Ploner
| malbec2 | Linux (Ubuntu 18.04.3 LTS) / x86_64 | OK | OK | OK | |||||||
| tokay2 | Windows Server 2012 R2 Standard / x64 | OK | OK | OK | OK | |||||||
| celaya2 | OS X 10.11.6 El Capitan / x86_64 | OK | [ OK ] | OK | OK |
| Package: maCorrPlot |
| Version: 1.57.1 |
| Command: /Library/Frameworks/R.framework/Versions/Current/Resources/bin/R CMD build --keep-empty-dirs --no-resave-data maCorrPlot |
| StartedAt: 2020-01-15 19:56:39 -0500 (Wed, 15 Jan 2020) |
| EndedAt: 2020-01-15 19:56:50 -0500 (Wed, 15 Jan 2020) |
| EllapsedTime: 11.8 seconds |
| RetCode: 0 |
| Status: OK |
| PackageFile: maCorrPlot_1.57.1.tar.gz |
| PackageFileSize: 1.168 MiB |
############################################################################## ############################################################################## ### ### Running command: ### ### /Library/Frameworks/R.framework/Versions/Current/Resources/bin/R CMD build --keep-empty-dirs --no-resave-data maCorrPlot ### ############################################################################## ############################################################################## * checking for file ‘maCorrPlot/DESCRIPTION’ ... OK * preparing ‘maCorrPlot’: * checking DESCRIPTION meta-information ... OK * installing the package to build vignettes * creating vignettes ... OK * checking for LF line-endings in source and make files and shell scripts * checking for empty or unneeded directories * looking to see if a ‘data/datalist’ file should be added * building ‘maCorrPlot_1.57.1.tar.gz’