| Back to Multiple platform build/check report for BioC 3.11 |
|
This page was generated on 2020-01-16 13:44:47 -0500 (Thu, 16 Jan 2020).
| Package 370/1818 | Hostname | OS / Arch | INSTALL | BUILD | CHECK | BUILD BIN | ||||||
| CountClust 1.15.0 Kushal Dey
| malbec2 | Linux (Ubuntu 18.04.3 LTS) / x86_64 | OK | OK | OK | |||||||
| tokay2 | Windows Server 2012 R2 Standard / x64 | OK | OK | OK | OK | |||||||
| celaya2 | OS X 10.11.6 El Capitan / x86_64 | OK | [ OK ] | OK | OK |
| Package: CountClust |
| Version: 1.15.0 |
| Command: /Library/Frameworks/R.framework/Versions/Current/Resources/bin/R CMD build --keep-empty-dirs --no-resave-data CountClust |
| StartedAt: 2020-01-15 22:38:31 -0500 (Wed, 15 Jan 2020) |
| EndedAt: 2020-01-15 22:39:59 -0500 (Wed, 15 Jan 2020) |
| EllapsedTime: 88.0 seconds |
| RetCode: 0 |
| Status: OK |
| PackageFile: CountClust_1.15.0.tar.gz |
| PackageFileSize: 5.952 MiB |
############################################################################## ############################################################################## ### ### Running command: ### ### /Library/Frameworks/R.framework/Versions/Current/Resources/bin/R CMD build --keep-empty-dirs --no-resave-data CountClust ### ############################################################################## ############################################################################## * checking for file ‘CountClust/DESCRIPTION’ ... OK * preparing ‘CountClust’: * checking DESCRIPTION meta-information ... OK * installing the package to build vignettes * creating vignettes ... OK * checking for LF line-endings in source and make files and shell scripts * checking for empty or unneeded directories * building ‘CountClust_1.15.0.tar.gz’