| Back to Multiple platform build/check report for BioC 3.11 |
|
This page was generated on 2020-01-16 13:40:18 -0500 (Thu, 16 Jan 2020).
| Package 1208/1818 | Hostname | OS / Arch | INSTALL | BUILD | CHECK | BUILD BIN | ||||||
| PAA 1.21.0 Michael Turewicz
| malbec2 | Linux (Ubuntu 18.04.3 LTS) / x86_64 | OK | OK | OK | |||||||
| tokay2 | Windows Server 2012 R2 Standard / x64 | OK | OK | OK | OK | |||||||
| celaya2 | OS X 10.11.6 El Capitan / x86_64 | OK | [ OK ] | OK | OK |
| Package: PAA |
| Version: 1.21.0 |
| Command: /Library/Frameworks/R.framework/Versions/Current/Resources/bin/R CMD build --keep-empty-dirs --no-resave-data PAA |
| StartedAt: 2020-01-15 21:45:20 -0500 (Wed, 15 Jan 2020) |
| EndedAt: 2020-01-15 21:49:16 -0500 (Wed, 15 Jan 2020) |
| EllapsedTime: 235.2 seconds |
| RetCode: 0 |
| Status: OK |
| PackageFile: PAA_1.21.0.tar.gz |
| PackageFileSize: 3.736 MiB |
##############################################################################
##############################################################################
###
### Running command:
###
### /Library/Frameworks/R.framework/Versions/Current/Resources/bin/R CMD build --keep-empty-dirs --no-resave-data PAA
###
##############################################################################
##############################################################################
* checking for file ‘PAA/DESCRIPTION’ ... OK
* preparing ‘PAA’:
* checking DESCRIPTION meta-information ... OK
* cleaning src
* installing the package to build vignettes
* creating vignettes ... OK
Warning: ‘inst/doc’ file
‘PAA_vignette.pdf’
ignored as vignettes have been rebuilt.
Run R CMD build with --no-build-vignettes to prevent rebuilding.
* cleaning src
* checking for LF line-endings in source and make files and shell scripts
* checking for empty or unneeded directories
* building ‘PAA_1.21.0.tar.gz’