| Back to Multiple platform build/check report for BioC 3.11 |
|
This page was generated on 2020-01-16 13:33:19 -0500 (Thu, 16 Jan 2020).
| Package 310/1818 | Hostname | OS / Arch | INSTALL | BUILD | CHECK | BUILD BIN | ||||||
| clusterProfiler 3.15.2 Guangchuang Yu
| malbec2 | Linux (Ubuntu 18.04.3 LTS) / x86_64 | ERROR | ERROR | skipped | |||||||
| tokay2 | Windows Server 2012 R2 Standard / x64 | ERROR | ERROR | skipped | skipped | |||||||
| celaya2 | OS X 10.11.6 El Capitan / x86_64 | ERROR | [ ERROR ] | skipped | skipped |
| Package: clusterProfiler |
| Version: 3.15.2 |
| Command: /Library/Frameworks/R.framework/Versions/Current/Resources/bin/R CMD build --keep-empty-dirs --no-resave-data clusterProfiler |
| StartedAt: 2020-01-15 20:31:51 -0500 (Wed, 15 Jan 2020) |
| EndedAt: 2020-01-15 20:32:04 -0500 (Wed, 15 Jan 2020) |
| EllapsedTime: 12.6 seconds |
| RetCode: 1 |
| Status: ERROR |
| PackageFile: None |
| PackageFileSize: NA |
##############################################################################
##############################################################################
###
### Running command:
###
### /Library/Frameworks/R.framework/Versions/Current/Resources/bin/R CMD build --keep-empty-dirs --no-resave-data clusterProfiler
###
##############################################################################
##############################################################################
* checking for file ‘clusterProfiler/DESCRIPTION’ ... OK
* preparing ‘clusterProfiler’:
* checking DESCRIPTION meta-information ... OK
* installing the package to build vignettes
-----------------------------------
* installing *source* package ‘clusterProfiler’ ...
** using staged installation
** R
** data
** inst
** byte-compile and prepare package for lazy loading
Error in loadNamespace(j <- i[[1L]], c(lib.loc, .libPaths()), versionCheck = vI[[j]]) :
namespace ‘enrichplot’ 1.7.0 is being loaded, but >= 1.7.1 is required
Calls: <Anonymous> ... namespaceImportFrom -> asNamespace -> loadNamespace
Execution halted
ERROR: lazy loading failed for package ‘clusterProfiler’
* removing ‘/private/tmp/Rtmp8hLwkb/Rinstd0ff96df6a7/clusterProfiler’
-----------------------------------
ERROR: package installation failed