| Back to Multiple platform build/check report for BioC 3.11 | 
 | 
This page was generated on 2020-01-16 13:38:57 -0500 (Thu, 16 Jan 2020).
| Package 987/1818 | Hostname | OS / Arch | INSTALL | BUILD | CHECK | BUILD BIN | ||||||
| MeSHDbi 1.23.0 Koki Tsuyuzaki 
 | malbec2 | Linux (Ubuntu 18.04.3 LTS) / x86_64 | OK | OK | OK |  | ||||||
| tokay2 | Windows Server 2012 R2 Standard / x64 | OK | OK | OK | OK |  | ||||||
| celaya2 | OS X 10.11.6 El Capitan / x86_64 | OK | OK | OK | [ OK ] |  | 
| Package: MeSHDbi | 
| Version: 1.23.0 | 
| Command: rm -rf MeSHDbi.buildbin-libdir && mkdir MeSHDbi.buildbin-libdir && /Users/biocbuild/BBS/utils/build-universal.sh MeSHDbi_1.23.0.tar.gz /Library/Frameworks/R.framework/Versions/Current/Resources/bin/R MeSHDbi.buildbin-libdir | 
| StartedAt: 2020-01-16 11:15:32 -0500 (Thu, 16 Jan 2020) | 
| EndedAt: 2020-01-16 11:15:56 -0500 (Thu, 16 Jan 2020) | 
| EllapsedTime: 23.5 seconds | 
| RetCode: 0 | 
| Status: OK | 
| PackageFile: MeSHDbi_1.23.0.tgz | 
| PackageFileSize: 449.8 KiB | 
############################################################################## ############################################################################## ### ### Running command: ### ### rm -rf MeSHDbi.buildbin-libdir && mkdir MeSHDbi.buildbin-libdir && /Users/biocbuild/BBS/utils/build-universal.sh MeSHDbi_1.23.0.tar.gz /Library/Frameworks/R.framework/Versions/Current/Resources/bin/R MeSHDbi.buildbin-libdir ### ############################################################################## ############################################################################## >>>>>>> >>>>>>> INSTALLATION WITH 'R CMD INSTALL --preclean --no-multiarch --library=MeSHDbi.buildbin-libdir MeSHDbi_1.23.0.tar.gz' >>>>>>> * installing *source* package ‘MeSHDbi’ ... ** using staged installation ** R ** data ** inst ** byte-compile and prepare package for lazy loading Creating a new generic function for ‘packageName’ in package ‘MeSHDbi’ ** help *** installing help indices ** building package indices ** installing vignettes ** testing if installed package can be loaded from temporary location ** testing if installed package can be loaded from final location ** testing if installed package keeps a record of temporary installation path * DONE (MeSHDbi)