| Back to Multiple platform build/check report for BioC 3.11 |
|
This page was generated on 2020-01-16 13:34:15 -0500 (Thu, 16 Jan 2020).
| Package 245/1818 | Hostname | OS / Arch | INSTALL | BUILD | CHECK | BUILD BIN | ||||||
| CellNOptR 1.33.0 A.Gabor
| malbec2 | Linux (Ubuntu 18.04.3 LTS) / x86_64 | OK | OK | WARNINGS | |||||||
| tokay2 | Windows Server 2012 R2 Standard / x64 | OK | OK | WARNINGS | OK | |||||||
| celaya2 | OS X 10.11.6 El Capitan / x86_64 | OK | OK | WARNINGS | [ OK ] |
| Package: CellNOptR |
| Version: 1.33.0 |
| Command: rm -rf CellNOptR.buildbin-libdir && mkdir CellNOptR.buildbin-libdir && /Users/biocbuild/BBS/utils/build-universal.sh CellNOptR_1.33.0.tar.gz /Library/Frameworks/R.framework/Versions/Current/Resources/bin/R CellNOptR.buildbin-libdir |
| StartedAt: 2020-01-16 10:35:39 -0500 (Thu, 16 Jan 2020) |
| EndedAt: 2020-01-16 10:36:06 -0500 (Thu, 16 Jan 2020) |
| EllapsedTime: 26.5 seconds |
| RetCode: 0 |
| Status: OK |
| PackageFile: CellNOptR_1.33.0.tgz |
| PackageFileSize: 1.968 MiB |
##############################################################################
##############################################################################
###
### Running command:
###
### rm -rf CellNOptR.buildbin-libdir && mkdir CellNOptR.buildbin-libdir && /Users/biocbuild/BBS/utils/build-universal.sh CellNOptR_1.33.0.tar.gz /Library/Frameworks/R.framework/Versions/Current/Resources/bin/R CellNOptR.buildbin-libdir
###
##############################################################################
##############################################################################
>>>>>>>
>>>>>>> INSTALLATION WITH 'R CMD INSTALL --preclean --no-multiarch --library=CellNOptR.buildbin-libdir CellNOptR_1.33.0.tar.gz'
>>>>>>>
* installing *source* package ‘CellNOptR’ ...
** using staged installation
** libs
clang -I"/Library/Frameworks/R.framework/Resources/include" -DNDEBUG -isysroot /Library/Developer/CommandLineTools/SDKs/MacOSX.sdk -I/usr/local/include -I./include -fPIC -Wall -g -O2 -c getFit.c -o getFit.o
getFit.c:47:6: warning: unused variable 'nReacs' [-Wunused-variable]
int nReacs = INTEGER(nReacs_in)[0];
^
getFit.c:39:6: warning: unused variable 'curr_max' [-Wunused-variable]
int curr_max = 0;
^
getFit.c:40:6: warning: unused variable 'or_max' [-Wunused-variable]
int or_max = 0;
^
getFit.c:41:6: warning: unused variable 'selection' [-Wunused-variable]
int selection[40];
^
getFit.c:42:6: warning: unused variable 'selCounter' [-Wunused-variable]
int selCounter = 0;
^
5 warnings generated.
clang -I"/Library/Frameworks/R.framework/Resources/include" -DNDEBUG -isysroot /Library/Developer/CommandLineTools/SDKs/MacOSX.sdk -I/usr/local/include -I./include -fPIC -Wall -g -O2 -c simulatorT1.c -o simulatorT1.o
clang -I"/Library/Frameworks/R.framework/Resources/include" -DNDEBUG -isysroot /Library/Developer/CommandLineTools/SDKs/MacOSX.sdk -I/usr/local/include -I./include -fPIC -Wall -g -O2 -c simulatorTN.c -o simulatorTN.o
simulatorTN.c:303:24: warning: equality comparison with extraneous parentheses [-Wparentheses-equality]
if((track_cond == nCond)) {
~~~~~~~~~~~^~~~~~~~
simulatorTN.c:303:24: note: remove extraneous parentheses around the comparison to silence this warning
if((track_cond == nCond)) {
~ ^ ~
simulatorTN.c:303:24: note: use '=' to turn this equality comparison into an assignment
if((track_cond == nCond)) {
^~
=
simulatorTN.c:501:28: warning: equality comparison with extraneous parentheses [-Wparentheses-equality]
if((track_cond == nCond)) {
~~~~~~~~~~~^~~~~~~~
simulatorTN.c:501:28: note: remove extraneous parentheses around the comparison to silence this warning
if((track_cond == nCond)) {
~ ^ ~
simulatorTN.c:501:28: note: use '=' to turn this equality comparison into an assignment
if((track_cond == nCond)) {
^~
=
2 warnings generated.
clang -dynamiclib -Wl,-headerpad_max_install_names -undefined dynamic_lookup -single_module -multiply_defined suppress -L/Library/Frameworks/R.framework/Resources/lib -L/usr/local/lib -o CellNOptR.so getFit.o simulatorT1.o simulatorTN.o -F/Library/Frameworks/R.framework/.. -framework R -Wl,-framework -Wl,CoreFoundation
installing to /Users/biocbuild/bbs-3.11-bioc/meat/CellNOptR.buildbin-libdir/00LOCK-CellNOptR/00new/CellNOptR/libs
** R
** data
** inst
** byte-compile and prepare package for lazy loading
** help
*** installing help indices
** building package indices
** installing vignettes
** testing if installed package can be loaded from temporary location
** checking absolute paths in shared objects and dynamic libraries
** testing if installed package can be loaded from final location
** testing if installed package keeps a record of temporary installation path
* DONE (CellNOptR)
>>>>>>>
>>>>>>> FIXING LINKS FOR CellNOptR.buildbin-libdir/CellNOptR/libs//CellNOptR.so
>>>>>>>
install_name_tool -change "/usr/local/lib/libgcc_s.1.dylib" "/Library/Frameworks/R.framework/Versions/4.0/Resources/lib/libgcc_s.1.dylib" "CellNOptR.buildbin-libdir/CellNOptR/libs//CellNOptR.so"
install_name_tool -change "/usr/local/lib/libgfortran.3.dylib" "/Library/Frameworks/R.framework/Versions/4.0/Resources/lib/libgfortran.3.dylib" "CellNOptR.buildbin-libdir/CellNOptR/libs//CellNOptR.so"
install_name_tool -change "/usr/local/lib/libreadline.5.2.dylib" "/Library/Frameworks/R.framework/Versions/4.0/Resources/lib/libreadline.5.2.dylib" "CellNOptR.buildbin-libdir/CellNOptR/libs//CellNOptR.so"
install_name_tool -change "/usr/local/lib/libreadline.dylib" "/Library/Frameworks/R.framework/Versions/4.0/Resources/lib/libreadline.dylib" "CellNOptR.buildbin-libdir/CellNOptR/libs//CellNOptR.so"
install_name_tool -change "/usr/local/lib/libquadmath.0.dylib" "/Library/Frameworks/R.framework/Versions/4.0/Resources/lib/libquadmath.0.dylib" "CellNOptR.buildbin-libdir/CellNOptR/libs//CellNOptR.so"