Back to Multiple platform build/check report for BioC 3.11 |
|
This page was generated on 2020-01-16 13:46:21 -0500 (Thu, 16 Jan 2020).
Package 884/1818 | Hostname | OS / Arch | INSTALL | BUILD | CHECK | BUILD BIN | ||||||
KEGGlincs 1.13.0 Shana White
| malbec2 | Linux (Ubuntu 18.04.3 LTS) / x86_64 | OK | OK | OK | |||||||
tokay2 | Windows Server 2012 R2 Standard / x64 | OK | OK | OK | OK | |||||||
celaya2 | OS X 10.11.6 El Capitan / x86_64 | OK | OK | [ OK ] | OK |
Package: KEGGlincs |
Version: 1.13.0 |
Command: /Library/Frameworks/R.framework/Versions/Current/Resources/bin/R CMD check --install=check:KEGGlincs.install-out.txt --library=/Library/Frameworks/R.framework/Versions/Current/Resources/library --no-vignettes --timings KEGGlincs_1.13.0.tar.gz |
StartedAt: 2020-01-16 05:48:31 -0500 (Thu, 16 Jan 2020) |
EndedAt: 2020-01-16 05:53:49 -0500 (Thu, 16 Jan 2020) |
EllapsedTime: 318.1 seconds |
RetCode: 0 |
Status: OK |
CheckDir: KEGGlincs.Rcheck |
Warnings: 0 |
############################################################################## ############################################################################## ### ### Running command: ### ### /Library/Frameworks/R.framework/Versions/Current/Resources/bin/R CMD check --install=check:KEGGlincs.install-out.txt --library=/Library/Frameworks/R.framework/Versions/Current/Resources/library --no-vignettes --timings KEGGlincs_1.13.0.tar.gz ### ############################################################################## ############################################################################## * using log directory ‘/Users/biocbuild/bbs-3.11-bioc/meat/KEGGlincs.Rcheck’ * using R Under development (unstable) (2019-12-14 r77572) * using platform: x86_64-apple-darwin15.6.0 (64-bit) * using session charset: UTF-8 * using option ‘--no-vignettes’ * checking for file ‘KEGGlincs/DESCRIPTION’ ... OK * checking extension type ... Package * this is package ‘KEGGlincs’ version ‘1.13.0’ * checking package namespace information ... OK * checking package dependencies ... OK * checking if this is a source package ... OK * checking if there is a namespace ... OK * checking for hidden files and directories ... OK * checking for portable file names ... OK * checking for sufficient/correct file permissions ... OK * checking whether package ‘KEGGlincs’ can be installed ... OK * checking installed package size ... OK * checking package directory ... OK * checking ‘build’ directory ... OK * checking DESCRIPTION meta-information ... OK * checking top-level files ... OK * checking for left-over files ... OK * checking index information ... OK * checking package subdirectories ... OK * checking R files for non-ASCII characters ... OK * checking R files for syntax errors ... OK * checking whether the package can be loaded ... OK * checking whether the package can be loaded with stated dependencies ... OK * checking whether the package can be unloaded cleanly ... OK * checking whether the namespace can be loaded with stated dependencies ... OK * checking whether the namespace can be unloaded cleanly ... OK * checking dependencies in R code ... NOTE Namespace in Imports field not imported from: ‘XML’ All declared Imports should be used. * checking S3 generic/method consistency ... OK * checking replacement functions ... OK * checking foreign function calls ... OK * checking R code for possible problems ... OK * checking Rd files ... OK * checking Rd metadata ... OK * checking Rd cross-references ... OK * checking for missing documentation entries ... OK * checking for code/documentation mismatches ... OK * checking Rd \usage sections ... OK * checking Rd contents ... OK * checking for unstated dependencies in examples ... OK * checking files in ‘vignettes’ ... OK * checking examples ... OK Examples with CPU (user + system) or elapsed time > 5s user system elapsed overlap_info 26.762 4.400 31.546 add_edge_data 26.209 3.650 30.803 edge_mapping_info 14.975 1.644 16.823 path_genes_by_cell_type 14.072 1.628 16.666 refine_mappings 13.860 1.210 15.314 get_graph_object 11.087 0.623 11.919 * checking for unstated dependencies in vignettes ... OK * checking package vignettes in ‘inst/doc’ ... OK * checking running R code from vignettes ... SKIPPED * checking re-building of vignette outputs ... SKIPPED * checking PDF version of manual ... OK * DONE Status: 1 NOTE See ‘/Users/biocbuild/bbs-3.11-bioc/meat/KEGGlincs.Rcheck/00check.log’ for details.
KEGGlincs.Rcheck/00install.out
############################################################################## ############################################################################## ### ### Running command: ### ### /Library/Frameworks/R.framework/Versions/Current/Resources/bin/R CMD INSTALL KEGGlincs ### ############################################################################## ############################################################################## * installing to library ‘/Library/Frameworks/R.framework/Versions/4.0/Resources/library’ * installing *source* package ‘KEGGlincs’ ... ** using staged installation ** R ** inst ** byte-compile and prepare package for lazy loading ** help *** installing help indices ** building package indices ** installing vignettes ** testing if installed package can be loaded from temporary location ** testing if installed package can be loaded from final location ** testing if installed package keeps a record of temporary installation path * DONE (KEGGlincs)
KEGGlincs.Rcheck/KEGGlincs-Ex.timings
name | user | system | elapsed | |
KEGG_lincs | 0 | 0 | 0 | |
KL_compare | 0.000 | 0.001 | 0.001 | |
add_edge_data | 26.209 | 3.650 | 30.803 | |
cyto_vis | 0.604 | 0.008 | 0.999 | |
edge_mapping_info | 14.975 | 1.644 | 16.823 | |
expand_KEGG_edges | 0.354 | 0.011 | 0.575 | |
expand_KEGG_mappings | 0.442 | 0.092 | 0.747 | |
generate_mappings | 0.001 | 0.001 | 0.001 | |
get_KGML | 0.281 | 0.003 | 0.904 | |
get_fisher_info | 0.004 | 0.000 | 0.004 | |
get_graph_object | 11.087 | 0.623 | 11.919 | |
keggerize_edges | 0.001 | 0.000 | 0.001 | |
node_mapping_info | 0.280 | 0.002 | 0.488 | |
overlap_info | 26.762 | 4.400 | 31.546 | |
path_genes_by_cell_type | 14.072 | 1.628 | 16.666 | |
refine_mappings | 13.860 | 1.210 | 15.314 | |
tidy_edge | 0.000 | 0.000 | 0.001 | |