| Back to Multiple platform build/check report for BioC 3.11 |
|
This page was generated on 2020-01-16 13:38:54 -0500 (Thu, 16 Jan 2020).
| Package 344/1818 | Hostname | OS / Arch | INSTALL | BUILD | CHECK | BUILD BIN | ||||||
| compcodeR 1.23.1 Charlotte Soneson
| malbec2 | Linux (Ubuntu 18.04.3 LTS) / x86_64 | OK | OK | OK | |||||||
| tokay2 | Windows Server 2012 R2 Standard / x64 | OK | OK | OK | OK | |||||||
| celaya2 | OS X 10.11.6 El Capitan / x86_64 | OK | [ OK ] | OK | OK |
| Package: compcodeR |
| Version: 1.23.1 |
| Command: /Library/Frameworks/R.framework/Versions/Current/Resources/bin/R CMD build --keep-empty-dirs --no-resave-data compcodeR |
| StartedAt: 2020-01-15 21:28:51 -0500 (Wed, 15 Jan 2020) |
| EndedAt: 2020-01-15 21:29:33 -0500 (Wed, 15 Jan 2020) |
| EllapsedTime: 42.3 seconds |
| RetCode: 0 |
| Status: OK |
| PackageFile: compcodeR_1.23.1.tar.gz |
| PackageFileSize: 3.539 MiB |
############################################################################## ############################################################################## ### ### Running command: ### ### /Library/Frameworks/R.framework/Versions/Current/Resources/bin/R CMD build --keep-empty-dirs --no-resave-data compcodeR ### ############################################################################## ############################################################################## * checking for file ‘compcodeR/DESCRIPTION’ ... OK * preparing ‘compcodeR’: * checking DESCRIPTION meta-information ... OK * installing the package to build vignettes * creating vignettes ... OK * checking for LF line-endings in source and make files and shell scripts * checking for empty or unneeded directories * building ‘compcodeR_1.23.1.tar.gz’