| Back to Multiple platform build/check report for BioC 3.11 |
|
This page was generated on 2020-01-16 13:32:14 -0500 (Thu, 16 Jan 2020).
| Package 278/1818 | Hostname | OS / Arch | INSTALL | BUILD | CHECK | BUILD BIN | ||||||
| ChIPseqR 1.41.0 Peter Humburg
| malbec2 | Linux (Ubuntu 18.04.3 LTS) / x86_64 | OK | OK | WARNINGS | |||||||
| tokay2 | Windows Server 2012 R2 Standard / x64 | OK | OK | WARNINGS | OK | |||||||
| celaya2 | OS X 10.11.6 El Capitan / x86_64 | OK | OK | WARNINGS | [ OK ] |
| Package: ChIPseqR |
| Version: 1.41.0 |
| Command: rm -rf ChIPseqR.buildbin-libdir && mkdir ChIPseqR.buildbin-libdir && /Users/biocbuild/BBS/utils/build-universal.sh ChIPseqR_1.41.0.tar.gz /Library/Frameworks/R.framework/Versions/Current/Resources/bin/R ChIPseqR.buildbin-libdir |
| StartedAt: 2020-01-16 10:37:34 -0500 (Thu, 16 Jan 2020) |
| EndedAt: 2020-01-16 10:38:27 -0500 (Thu, 16 Jan 2020) |
| EllapsedTime: 53.6 seconds |
| RetCode: 0 |
| Status: OK |
| PackageFile: ChIPseqR_1.41.0.tgz |
| PackageFileSize: 1.074 MiB |
##############################################################################
##############################################################################
###
### Running command:
###
### rm -rf ChIPseqR.buildbin-libdir && mkdir ChIPseqR.buildbin-libdir && /Users/biocbuild/BBS/utils/build-universal.sh ChIPseqR_1.41.0.tar.gz /Library/Frameworks/R.framework/Versions/Current/Resources/bin/R ChIPseqR.buildbin-libdir
###
##############################################################################
##############################################################################
>>>>>>>
>>>>>>> INSTALLATION WITH 'R CMD INSTALL --preclean --no-multiarch --library=ChIPseqR.buildbin-libdir ChIPseqR_1.41.0.tar.gz'
>>>>>>>
* installing *source* package ‘ChIPseqR’ ...
** using staged installation
** libs
clang -I"/Library/Frameworks/R.framework/Resources/include" -DNDEBUG -isysroot /Library/Developer/CommandLineTools/SDKs/MacOSX.sdk -I/usr/local/include -fPIC -Wall -g -O2 -c startScore.c -o startScore.o
startScore.c:66:15: warning: unused variable 'tmp_stat' [-Wunused-variable]
double stat, tmp_stat;
^
1 warning generated.
clang -dynamiclib -Wl,-headerpad_max_install_names -undefined dynamic_lookup -single_module -multiply_defined suppress -L/Library/Frameworks/R.framework/Resources/lib -L/usr/local/lib -o ChIPseqR.so startScore.o -F/Library/Frameworks/R.framework/.. -framework R -Wl,-framework -Wl,CoreFoundation
installing to /Users/biocbuild/bbs-3.11-bioc/meat/ChIPseqR.buildbin-libdir/00LOCK-ChIPseqR/00new/ChIPseqR/libs
** R
** inst
** byte-compile and prepare package for lazy loading
Warning: replacing previous import ‘BiocGenerics::image’ by ‘graphics::image’ when loading ‘ChIPseqR’
Warning: replacing previous import ‘S4Vectors::head’ by ‘utils::head’ when loading ‘ChIPseqR’
Warning: replacing previous import ‘S4Vectors::tail’ by ‘utils::tail’ when loading ‘ChIPseqR’
No methods found in package ‘IRanges’ for request: ‘score’ when loading ‘ChIPseqR’
** help
*** installing help indices
** building package indices
** installing vignettes
** testing if installed package can be loaded from temporary location
Warning: replacing previous import ‘BiocGenerics::image’ by ‘graphics::image’ when loading ‘ChIPseqR’
Warning: replacing previous import ‘S4Vectors::head’ by ‘utils::head’ when loading ‘ChIPseqR’
Warning: replacing previous import ‘S4Vectors::tail’ by ‘utils::tail’ when loading ‘ChIPseqR’
No methods found in package ‘IRanges’ for request: ‘score’ when loading ‘ChIPseqR’
** checking absolute paths in shared objects and dynamic libraries
** testing if installed package can be loaded from final location
Warning: replacing previous import ‘BiocGenerics::image’ by ‘graphics::image’ when loading ‘ChIPseqR’
Warning: replacing previous import ‘S4Vectors::head’ by ‘utils::head’ when loading ‘ChIPseqR’
Warning: replacing previous import ‘S4Vectors::tail’ by ‘utils::tail’ when loading ‘ChIPseqR’
No methods found in package ‘IRanges’ for request: ‘score’ when loading ‘ChIPseqR’
** testing if installed package keeps a record of temporary installation path
* DONE (ChIPseqR)
>>>>>>>
>>>>>>> FIXING LINKS FOR ChIPseqR.buildbin-libdir/ChIPseqR/libs//ChIPseqR.so
>>>>>>>
install_name_tool -change "/usr/local/lib/libgcc_s.1.dylib" "/Library/Frameworks/R.framework/Versions/4.0/Resources/lib/libgcc_s.1.dylib" "ChIPseqR.buildbin-libdir/ChIPseqR/libs//ChIPseqR.so"
install_name_tool -change "/usr/local/lib/libgfortran.3.dylib" "/Library/Frameworks/R.framework/Versions/4.0/Resources/lib/libgfortran.3.dylib" "ChIPseqR.buildbin-libdir/ChIPseqR/libs//ChIPseqR.so"
install_name_tool -change "/usr/local/lib/libreadline.5.2.dylib" "/Library/Frameworks/R.framework/Versions/4.0/Resources/lib/libreadline.5.2.dylib" "ChIPseqR.buildbin-libdir/ChIPseqR/libs//ChIPseqR.so"
install_name_tool -change "/usr/local/lib/libreadline.dylib" "/Library/Frameworks/R.framework/Versions/4.0/Resources/lib/libreadline.dylib" "ChIPseqR.buildbin-libdir/ChIPseqR/libs//ChIPseqR.so"
install_name_tool -change "/usr/local/lib/libquadmath.0.dylib" "/Library/Frameworks/R.framework/Versions/4.0/Resources/lib/libquadmath.0.dylib" "ChIPseqR.buildbin-libdir/ChIPseqR/libs//ChIPseqR.so"