| Back to Multiple platform build/check report for BioC 3.11 |
|
This page was generated on 2020-01-16 13:55:02 -0500 (Thu, 16 Jan 2020).
| Package 72/1818 | Hostname | OS / Arch | INSTALL | BUILD | CHECK | BUILD BIN | ||||||
| APAlyzer 1.1.0 Ruijia Wang
| malbec2 | Linux (Ubuntu 18.04.3 LTS) / x86_64 | OK | OK | OK | |||||||
| tokay2 | Windows Server 2012 R2 Standard / x64 | OK | OK | OK | OK | |||||||
| celaya2 | OS X 10.11.6 El Capitan / x86_64 | OK | [ OK ] | OK | OK |
| Package: APAlyzer |
| Version: 1.1.0 |
| Command: /Library/Frameworks/R.framework/Versions/Current/Resources/bin/R CMD build --keep-empty-dirs --no-resave-data APAlyzer |
| StartedAt: 2020-01-16 00:51:43 -0500 (Thu, 16 Jan 2020) |
| EndedAt: 2020-01-16 00:53:40 -0500 (Thu, 16 Jan 2020) |
| EllapsedTime: 117.0 seconds |
| RetCode: 0 |
| Status: OK |
| PackageFile: APAlyzer_1.1.0.tar.gz |
| PackageFileSize: 4.146 MiB |
############################################################################## ############################################################################## ### ### Running command: ### ### /Library/Frameworks/R.framework/Versions/Current/Resources/bin/R CMD build --keep-empty-dirs --no-resave-data APAlyzer ### ############################################################################## ############################################################################## * checking for file ‘APAlyzer/DESCRIPTION’ ... OK * preparing ‘APAlyzer’: * checking DESCRIPTION meta-information ... OK * installing the package to build vignettes * creating vignettes ... OK * checking for LF line-endings in source and make files and shell scripts * checking for empty or unneeded directories * building ‘APAlyzer_1.1.0.tar.gz’