| Back to Multiple platform build/check report for BioC 3.11 |
|
This page was generated on 2020-01-16 13:39:44 -0500 (Thu, 16 Jan 2020).
| Package 791/1818 | Hostname | OS / Arch | INSTALL | BUILD | CHECK | BUILD BIN | ||||||
| hiReadsProcessor 1.23.0 Nirav V Malani
| malbec2 | Linux (Ubuntu 18.04.3 LTS) / x86_64 | OK | OK | OK | |||||||
| tokay2 | Windows Server 2012 R2 Standard / x64 | ...NOT SUPPORTED... | ||||||||||
| celaya2 | OS X 10.11.6 El Capitan / x86_64 | OK | [ OK ] | OK | OK | |||||||
| Package: hiReadsProcessor |
| Version: 1.23.0 |
| Command: /Library/Frameworks/R.framework/Versions/Current/Resources/bin/R CMD build --keep-empty-dirs --no-resave-data hiReadsProcessor |
| StartedAt: 2020-01-15 21:38:08 -0500 (Wed, 15 Jan 2020) |
| EndedAt: 2020-01-15 21:39:45 -0500 (Wed, 15 Jan 2020) |
| EllapsedTime: 97.9 seconds |
| RetCode: 0 |
| Status: OK |
| PackageFile: hiReadsProcessor_1.23.0.tar.gz |
| PackageFileSize: 3.154 MiB |
############################################################################## ############################################################################## ### ### Running command: ### ### /Library/Frameworks/R.framework/Versions/Current/Resources/bin/R CMD build --keep-empty-dirs --no-resave-data hiReadsProcessor ### ############################################################################## ############################################################################## * checking for file ‘hiReadsProcessor/DESCRIPTION’ ... OK * preparing ‘hiReadsProcessor’: * checking DESCRIPTION meta-information ... OK * installing the package to build vignettes * creating vignettes ... OK * checking for LF line-endings in source and make files and shell scripts * checking for empty or unneeded directories * looking to see if a ‘data/datalist’ file should be added * building ‘hiReadsProcessor_1.23.0.tar.gz’