Back to Multiple platform build/check report for BioC 3.11 |
|
This page was generated on 2020-01-16 13:38:12 -0500 (Thu, 16 Jan 2020).
Package 339/1818 | Hostname | OS / Arch | INSTALL | BUILD | CHECK | BUILD BIN | ||||||
COHCAP 1.33.0 Charles Warden
| malbec2 | Linux (Ubuntu 18.04.3 LTS) / x86_64 | OK | OK | OK | |||||||
tokay2 | Windows Server 2012 R2 Standard / x64 | OK | OK | OK | OK | |||||||
celaya2 | OS X 10.11.6 El Capitan / x86_64 | OK | OK | [ OK ] | OK |
Package: COHCAP |
Version: 1.33.0 |
Command: /Library/Frameworks/R.framework/Versions/Current/Resources/bin/R CMD check --install=check:COHCAP.install-out.txt --library=/Library/Frameworks/R.framework/Versions/Current/Resources/library --no-vignettes --timings COHCAP_1.33.0.tar.gz |
StartedAt: 2020-01-16 03:07:26 -0500 (Thu, 16 Jan 2020) |
EndedAt: 2020-01-16 03:09:01 -0500 (Thu, 16 Jan 2020) |
EllapsedTime: 94.9 seconds |
RetCode: 0 |
Status: OK |
CheckDir: COHCAP.Rcheck |
Warnings: 0 |
############################################################################## ############################################################################## ### ### Running command: ### ### /Library/Frameworks/R.framework/Versions/Current/Resources/bin/R CMD check --install=check:COHCAP.install-out.txt --library=/Library/Frameworks/R.framework/Versions/Current/Resources/library --no-vignettes --timings COHCAP_1.33.0.tar.gz ### ############################################################################## ############################################################################## * using log directory ‘/Users/biocbuild/bbs-3.11-bioc/meat/COHCAP.Rcheck’ * using R Under development (unstable) (2019-12-14 r77572) * using platform: x86_64-apple-darwin15.6.0 (64-bit) * using session charset: UTF-8 * using option ‘--no-vignettes’ * checking for file ‘COHCAP/DESCRIPTION’ ... OK * checking extension type ... Package * this is package ‘COHCAP’ version ‘1.33.0’ * checking package namespace information ... OK * checking package dependencies ... OK * checking if this is a source package ... OK * checking if there is a namespace ... OK * checking for hidden files and directories ... OK * checking for portable file names ... OK * checking for sufficient/correct file permissions ... OK * checking whether package ‘COHCAP’ can be installed ... OK * checking installed package size ... OK * checking package directory ... OK * checking ‘build’ directory ... OK * checking DESCRIPTION meta-information ... NOTE Malformed Description field: should contain one or more complete sentences. * checking top-level files ... OK * checking for left-over files ... OK * checking index information ... OK * checking package subdirectories ... OK * checking R files for non-ASCII characters ... OK * checking R files for syntax errors ... OK * checking whether the package can be loaded ... OK * checking whether the package can be loaded with stated dependencies ... OK * checking whether the package can be unloaded cleanly ... OK * checking whether the namespace can be loaded with stated dependencies ... OK * checking whether the namespace can be unloaded cleanly ... OK * checking dependencies in R code ... OK * checking S3 generic/method consistency ... OK * checking replacement functions ... OK * checking foreign function calls ... OK * checking R code for possible problems ... NOTE COHCAP.annotate: no visible binding for global variable ‘COHCAP.450k.UCSC’ COHCAP.annotate: no visible binding for global variable ‘COHCAP.450k.HMM’ COHCAP.annotate: no visible binding for global variable ‘COHCAP.27k’ COHCAP.integrate.avg.by.island: no visible binding for global variable ‘na.rm’ cor.test.est: no visible binding for global variable ‘na.rm’ cor.test.pvalue: no visible binding for global variable ‘na.rm’ Undefined global functions or variables: COHCAP.27k COHCAP.450k.HMM COHCAP.450k.UCSC na.rm * checking Rd files ... OK * checking Rd metadata ... OK * checking Rd cross-references ... OK * checking for missing documentation entries ... OK * checking for code/documentation mismatches ... OK * checking Rd \usage sections ... OK * checking Rd contents ... OK * checking for unstated dependencies in examples ... OK * checking line endings in C/C++/Fortran sources/headers ... OK * checking compiled code ... NOTE Note: information on .o files is not available * checking sizes of PDF files under ‘inst/doc’ ... OK * checking files in ‘vignettes’ ... OK * checking examples ... OK Examples with CPU (user + system) or elapsed time > 5s user system elapsed COHCAP.integrate.avg.by.island 6.731 1.007 7.910 COHCAP.integrate.avg.by.site 6.131 0.875 7.155 COHCAP.avg.by.island 5.742 0.784 6.610 COHCAP.avg.by.site 5.127 0.671 5.890 COHCAP.denovo 4.818 0.535 5.564 * checking for unstated dependencies in vignettes ... OK * checking package vignettes in ‘inst/doc’ ... OK * checking running R code from vignettes ... SKIPPED * checking re-building of vignette outputs ... SKIPPED * checking PDF version of manual ... OK * DONE Status: 3 NOTEs See ‘/Users/biocbuild/bbs-3.11-bioc/meat/COHCAP.Rcheck/00check.log’ for details.
COHCAP.Rcheck/00install.out
############################################################################## ############################################################################## ### ### Running command: ### ### /Library/Frameworks/R.framework/Versions/Current/Resources/bin/R CMD INSTALL COHCAP ### ############################################################################## ############################################################################## * installing to library ‘/Library/Frameworks/R.framework/Versions/4.0/Resources/library’ * installing *source* package ‘COHCAP’ ... ** using staged installation ** libs clang++ -std=gnu++11 -I"/Library/Frameworks/R.framework/Resources/include" -DNDEBUG -I'/Library/Frameworks/R.framework/Versions/4.0/Resources/library/Rcpp/include' -I'/Library/Frameworks/R.framework/Versions/4.0/Resources/library/BH/include' -isysroot /Library/Developer/CommandLineTools/SDKs/MacOSX.sdk -I/usr/local/include -fPIC -Wall -g -O2 -c RcppExports.cpp -o RcppExports.o clang++ -std=gnu++11 -I"/Library/Frameworks/R.framework/Resources/include" -DNDEBUG -I'/Library/Frameworks/R.framework/Versions/4.0/Resources/library/Rcpp/include' -I'/Library/Frameworks/R.framework/Versions/4.0/Resources/library/BH/include' -isysroot /Library/Developer/CommandLineTools/SDKs/MacOSX.sdk -I/usr/local/include -fPIC -Wall -g -O2 -c Rcpp_BH_ANOVA.cpp -o Rcpp_BH_ANOVA.o clang++ -std=gnu++11 -I"/Library/Frameworks/R.framework/Resources/include" -DNDEBUG -I'/Library/Frameworks/R.framework/Versions/4.0/Resources/library/Rcpp/include' -I'/Library/Frameworks/R.framework/Versions/4.0/Resources/library/BH/include' -isysroot /Library/Developer/CommandLineTools/SDKs/MacOSX.sdk -I/usr/local/include -fPIC -Wall -g -O2 -c Rcpp_BH_ttest.cpp -o Rcpp_BH_ttest.o clang++ -std=gnu++11 -dynamiclib -Wl,-headerpad_max_install_names -undefined dynamic_lookup -single_module -multiply_defined suppress -L/Library/Frameworks/R.framework/Resources/lib -L/usr/local/lib -o COHCAP.so RcppExports.o Rcpp_BH_ANOVA.o Rcpp_BH_ttest.o -F/Library/Frameworks/R.framework/.. -framework R -Wl,-framework -Wl,CoreFoundation installing to /Library/Frameworks/R.framework/Versions/4.0/Resources/library/00LOCK-COHCAP/00new/COHCAP/libs ** R ** inst ** byte-compile and prepare package for lazy loading ** help *** installing help indices ** building package indices ** installing vignettes ** testing if installed package can be loaded from temporary location ** checking absolute paths in shared objects and dynamic libraries ** testing if installed package can be loaded from final location ** testing if installed package keeps a record of temporary installation path * DONE (COHCAP)
COHCAP.Rcheck/COHCAP-Ex.timings
name | user | system | elapsed | |
COHCAP.BSSeq.preprocess | 0.052 | 0.057 | 0.149 | |
COHCAP.BSSeq_V2.methyl.table | 0.027 | 0.005 | 0.034 | |
COHCAP.annotate | 2.459 | 0.310 | 2.853 | |
COHCAP.avg.by.island | 5.742 | 0.784 | 6.610 | |
COHCAP.avg.by.site | 5.127 | 0.671 | 5.890 | |
COHCAP.denovo | 4.818 | 0.535 | 5.564 | |
COHCAP.integrate.avg.by.island | 6.731 | 1.007 | 7.910 | |
COHCAP.integrate.avg.by.site | 6.131 | 0.875 | 7.155 | |
COHCAP.qc | 2.090 | 0.183 | 2.497 | |
COHCAP.reformatFinalReport | 0.015 | 0.003 | 0.019 | |
COHCAP.site | 4.304 | 0.391 | 4.880 | |