Back to Multiple platform build/check report for BioC 3.11 |
|
This page was generated on 2020-01-16 13:55:46 -0500 (Thu, 16 Jan 2020).
Package 968/1818 | Hostname | OS / Arch | INSTALL | BUILD | CHECK | BUILD BIN | ||||||
MBQN 1.1.5 Ariane Schad
| malbec2 | Linux (Ubuntu 18.04.3 LTS) / x86_64 | OK | OK | OK | |||||||
tokay2 | Windows Server 2012 R2 Standard / x64 | OK | OK | OK | OK | |||||||
celaya2 | OS X 10.11.6 El Capitan / x86_64 | OK | OK | [ OK ] | OK |
Package: MBQN |
Version: 1.1.5 |
Command: /Library/Frameworks/R.framework/Versions/Current/Resources/bin/R CMD check --install=check:MBQN.install-out.txt --library=/Library/Frameworks/R.framework/Versions/Current/Resources/library --no-vignettes --timings MBQN_1.1.5.tar.gz |
StartedAt: 2020-01-16 06:07:36 -0500 (Thu, 16 Jan 2020) |
EndedAt: 2020-01-16 06:12:40 -0500 (Thu, 16 Jan 2020) |
EllapsedTime: 304.2 seconds |
RetCode: 0 |
Status: OK |
CheckDir: MBQN.Rcheck |
Warnings: 0 |
############################################################################## ############################################################################## ### ### Running command: ### ### /Library/Frameworks/R.framework/Versions/Current/Resources/bin/R CMD check --install=check:MBQN.install-out.txt --library=/Library/Frameworks/R.framework/Versions/Current/Resources/library --no-vignettes --timings MBQN_1.1.5.tar.gz ### ############################################################################## ############################################################################## * using log directory ‘/Users/biocbuild/bbs-3.11-bioc/meat/MBQN.Rcheck’ * using R Under development (unstable) (2019-12-14 r77572) * using platform: x86_64-apple-darwin15.6.0 (64-bit) * using session charset: UTF-8 * using option ‘--no-vignettes’ * checking for file ‘MBQN/DESCRIPTION’ ... OK * this is package ‘MBQN’ version ‘1.1.5’ * package encoding: UTF-8 * checking package namespace information ... OK * checking package dependencies ... OK * checking if this is a source package ... OK * checking if there is a namespace ... OK * checking for hidden files and directories ... OK * checking for portable file names ... OK * checking for sufficient/correct file permissions ... OK * checking whether package ‘MBQN’ can be installed ... OK * checking installed package size ... OK * checking package directory ... OK * checking ‘build’ directory ... OK * checking DESCRIPTION meta-information ... OK * checking top-level files ... OK * checking for left-over files ... OK * checking index information ... OK * checking package subdirectories ... OK * checking R files for non-ASCII characters ... OK * checking R files for syntax errors ... OK * checking whether the package can be loaded ... OK * checking whether the package can be loaded with stated dependencies ... OK * checking whether the package can be unloaded cleanly ... OK * checking whether the namespace can be loaded with stated dependencies ... OK * checking whether the namespace can be unloaded cleanly ... OK * checking dependencies in R code ... NOTE Namespace in Imports field not imported from: ‘reshape2’ All declared Imports should be used. * checking S3 generic/method consistency ... OK * checking replacement functions ... OK * checking foreign function calls ... OK * checking R code for possible problems ... OK * checking Rd files ... OK * checking Rd metadata ... OK * checking Rd cross-references ... OK * checking for missing documentation entries ... OK * checking for code/documentation mismatches ... OK * checking Rd \usage sections ... OK * checking Rd contents ... OK * checking for unstated dependencies in examples ... OK * checking R/sysdata.rda ... OK * checking files in ‘vignettes’ ... OK * checking examples ... OK Examples with CPU (user + system) or elapsed time > 5s user system elapsed getPXDfile 0.948 0.342 38.064 * checking for unstated dependencies in vignettes ... OK * checking package vignettes in ‘inst/doc’ ... OK * checking running R code from vignettes ... SKIPPED * checking re-building of vignette outputs ... SKIPPED * checking PDF version of manual ... OK * DONE Status: 1 NOTE See ‘/Users/biocbuild/bbs-3.11-bioc/meat/MBQN.Rcheck/00check.log’ for details.
MBQN.Rcheck/00install.out
############################################################################## ############################################################################## ### ### Running command: ### ### /Library/Frameworks/R.framework/Versions/Current/Resources/bin/R CMD INSTALL MBQN ### ############################################################################## ############################################################################## * installing to library ‘/Library/Frameworks/R.framework/Versions/4.0/Resources/library’ * installing *source* package ‘MBQN’ ... ** using staged installation ** R ** inst ** byte-compile and prepare package for lazy loading ** help *** installing help indices ** building package indices ** installing vignettes ** testing if installed package can be loaded from temporary location ** testing if installed package can be loaded from final location ** testing if installed package keeps a record of temporary installation path * DONE (MBQN)
MBQN.Rcheck/MBQN-Ex.timings
name | user | system | elapsed | |
getKminmax | 0.002 | 0.002 | 0.004 | |
getPXDfile | 0.948 | 0.342 | 38.064 | |
mbqn | 0.017 | 0.002 | 0.019 | |
mbqnBoxplot | 0.052 | 0.003 | 0.055 | |
mbqnGetNRIfeatures | 1.084 | 0.111 | 1.195 | |
mbqnLoadFile | 3.805 | 0.797 | 4.604 | |
mbqnNRI | 0.020 | 0.001 | 0.021 | |
mbqnPlotAll | 0.041 | 0.001 | 0.044 | |
mbqnPlotRI | 0.992 | 0.158 | 1.150 | |
mbqnSimuData | 0.482 | 0.606 | 1.088 | |
mbqnSimuDistortion | 0.038 | 0.008 | 0.047 | |