| Back to Multiple platform build/check report for BioC 3.11 |
|
This page was generated on 2020-01-16 13:39:33 -0500 (Thu, 16 Jan 2020).
| Package 993/1818 | Hostname | OS / Arch | INSTALL | BUILD | CHECK | BUILD BIN | ||||||
| metabomxtr 1.21.0 Michael Nodzenski
| malbec2 | Linux (Ubuntu 18.04.3 LTS) / x86_64 | OK | OK | OK | |||||||
| tokay2 | Windows Server 2012 R2 Standard / x64 | OK | OK | OK | OK | |||||||
| celaya2 | OS X 10.11.6 El Capitan / x86_64 | OK | OK | [ OK ] | OK |
| Package: metabomxtr |
| Version: 1.21.0 |
| Command: /Library/Frameworks/R.framework/Versions/Current/Resources/bin/R CMD check --install=check:metabomxtr.install-out.txt --library=/Library/Frameworks/R.framework/Versions/Current/Resources/library --no-vignettes --timings metabomxtr_1.21.0.tar.gz |
| StartedAt: 2020-01-16 06:13:54 -0500 (Thu, 16 Jan 2020) |
| EndedAt: 2020-01-16 06:16:06 -0500 (Thu, 16 Jan 2020) |
| EllapsedTime: 132.1 seconds |
| RetCode: 0 |
| Status: OK |
| CheckDir: metabomxtr.Rcheck |
| Warnings: 0 |
##############################################################################
##############################################################################
###
### Running command:
###
### /Library/Frameworks/R.framework/Versions/Current/Resources/bin/R CMD check --install=check:metabomxtr.install-out.txt --library=/Library/Frameworks/R.framework/Versions/Current/Resources/library --no-vignettes --timings metabomxtr_1.21.0.tar.gz
###
##############################################################################
##############################################################################
* using log directory ‘/Users/biocbuild/bbs-3.11-bioc/meat/metabomxtr.Rcheck’
* using R Under development (unstable) (2019-12-14 r77572)
* using platform: x86_64-apple-darwin15.6.0 (64-bit)
* using session charset: UTF-8
* using option ‘--no-vignettes’
* checking for file ‘metabomxtr/DESCRIPTION’ ... OK
* checking extension type ... Package
* this is package ‘metabomxtr’ version ‘1.21.0’
* checking package namespace information ... OK
* checking package dependencies ... OK
* checking if this is a source package ... OK
* checking if there is a namespace ... OK
* checking for hidden files and directories ... OK
* checking for portable file names ... OK
* checking for sufficient/correct file permissions ... OK
* checking whether package ‘metabomxtr’ can be installed ... OK
* checking installed package size ... OK
* checking package directory ... OK
* checking ‘build’ directory ... OK
* checking DESCRIPTION meta-information ... OK
* checking top-level files ... OK
* checking for left-over files ... OK
* checking index information ... OK
* checking package subdirectories ... OK
* checking R files for non-ASCII characters ... OK
* checking R files for syntax errors ... OK
* checking whether the package can be loaded ... OK
* checking whether the package can be loaded with stated dependencies ... OK
* checking whether the package can be unloaded cleanly ... OK
* checking whether the namespace can be loaded with stated dependencies ... OK
* checking whether the namespace can be unloaded cleanly ... OK
* checking dependencies in R code ... OK
* checking S3 generic/method consistency ... OK
* checking replacement functions ... OK
* checking foreign function calls ... OK
* checking R code for possible problems ... OK
* checking Rd files ... OK
* checking Rd metadata ... OK
* checking Rd cross-references ... OK
* checking for missing documentation entries ... OK
* checking for code/documentation mismatches ... OK
* checking Rd \usage sections ... OK
* checking Rd contents ... OK
* checking for unstated dependencies in examples ... OK
* checking contents of ‘data’ directory ... OK
* checking data for non-ASCII characters ... OK
* checking data for ASCII and uncompressed saves ... OK
* checking sizes of PDF files under ‘inst/doc’ ... OK
* checking files in ‘vignettes’ ... OK
* checking examples ... OK
Examples with CPU (user + system) or elapsed time > 5s
user system elapsed
mxtrmod 6.171 6.888 5.960
metabomxtr-package 5.385 5.642 5.020
mixnorm 3.011 4.226 2.160
metabplot 3.624 3.356 3.054
mxtrmodLRT 2.263 3.059 3.437
* checking for unstated dependencies in vignettes ... OK
* checking package vignettes in ‘inst/doc’ ... OK
* checking running R code from vignettes ... SKIPPED
* checking re-building of vignette outputs ... SKIPPED
* checking PDF version of manual ... OK
* DONE
Status: OK
metabomxtr.Rcheck/00install.out
############################################################################## ############################################################################## ### ### Running command: ### ### /Library/Frameworks/R.framework/Versions/Current/Resources/bin/R CMD INSTALL metabomxtr ### ############################################################################## ############################################################################## * installing to library ‘/Library/Frameworks/R.framework/Versions/4.0/Resources/library’ * installing *source* package ‘metabomxtr’ ... ** using staged installation ** R ** data ** byte-compile and prepare package for lazy loading ** help *** installing help indices ** building package indices ** installing vignettes ** testing if installed package can be loaded from temporary location ** testing if installed package can be loaded from final location ** testing if installed package keeps a record of temporary installation path * DONE (metabomxtr)
metabomxtr.Rcheck/metabomxtr-Ex.timings
| name | user | system | elapsed | |
| addBatchMeans | 0.046 | 0.006 | 0.052 | |
| addOutlierInfo | 0.003 | 0.003 | 0.006 | |
| allMissingLevels | 0.007 | 0.003 | 0.010 | |
| anyMissingLevels | 0.004 | 0.003 | 0.007 | |
| idMissingLevels | 0.005 | 0.003 | 0.008 | |
| metabomxtr-package | 5.385 | 5.642 | 5.020 | |
| metabplot | 3.624 | 3.356 | 3.054 | |
| mixnorm | 3.011 | 4.226 | 2.160 | |
| mxtrmod | 6.171 | 6.888 | 5.960 | |
| mxtrmodLL | 1.206 | 1.041 | 0.029 | |
| mxtrmodLRT | 2.263 | 3.059 | 3.437 | |
| mxtrmodstart | 0.007 | 0.006 | 0.013 | |
| removeAllMissingCatVar | 0.006 | 0.003 | 0.009 | |
| removeMissingLevels | 0.006 | 0.003 | 0.009 | |
| runMxtrmod | 1.612 | 0.325 | 1.936 | |