| Back to Multiple platform build/check report for BioC 3.11 |
|
This page was generated on 2020-01-16 13:42:16 -0500 (Thu, 16 Jan 2020).
| Package 1014/1818 | Hostname | OS / Arch | INSTALL | BUILD | CHECK | BUILD BIN | ||||||
| MethTargetedNGS 1.19.0 Muhammad Ahmer Jamil
| malbec2 | Linux (Ubuntu 18.04.3 LTS) / x86_64 | OK | OK | OK | |||||||
| tokay2 | Windows Server 2012 R2 Standard / x64 | OK | OK | OK | OK | |||||||
| celaya2 | OS X 10.11.6 El Capitan / x86_64 | OK | OK | [ OK ] | OK |
| Package: MethTargetedNGS |
| Version: 1.19.0 |
| Command: /Library/Frameworks/R.framework/Versions/Current/Resources/bin/R CMD check --install=check:MethTargetedNGS.install-out.txt --library=/Library/Frameworks/R.framework/Versions/Current/Resources/library --no-vignettes --timings MethTargetedNGS_1.19.0.tar.gz |
| StartedAt: 2020-01-16 06:19:52 -0500 (Thu, 16 Jan 2020) |
| EndedAt: 2020-01-16 06:22:23 -0500 (Thu, 16 Jan 2020) |
| EllapsedTime: 151.3 seconds |
| RetCode: 0 |
| Status: OK |
| CheckDir: MethTargetedNGS.Rcheck |
| Warnings: 0 |
##############################################################################
##############################################################################
###
### Running command:
###
### /Library/Frameworks/R.framework/Versions/Current/Resources/bin/R CMD check --install=check:MethTargetedNGS.install-out.txt --library=/Library/Frameworks/R.framework/Versions/Current/Resources/library --no-vignettes --timings MethTargetedNGS_1.19.0.tar.gz
###
##############################################################################
##############################################################################
* using log directory ‘/Users/biocbuild/bbs-3.11-bioc/meat/MethTargetedNGS.Rcheck’
* using R Under development (unstable) (2019-12-14 r77572)
* using platform: x86_64-apple-darwin15.6.0 (64-bit)
* using session charset: UTF-8
* using option ‘--no-vignettes’
* checking for file ‘MethTargetedNGS/DESCRIPTION’ ... OK
* checking extension type ... Package
* this is package ‘MethTargetedNGS’ version ‘1.19.0’
* checking package namespace information ... OK
* checking package dependencies ... OK
* checking if this is a source package ... OK
* checking if there is a namespace ... OK
* checking for hidden files and directories ... OK
* checking for portable file names ... OK
* checking for sufficient/correct file permissions ... OK
* checking whether package ‘MethTargetedNGS’ can be installed ... OK
* checking installed package size ... OK
* checking package directory ... OK
* checking ‘build’ directory ... OK
* checking DESCRIPTION meta-information ... OK
* checking top-level files ... OK
* checking for left-over files ... OK
* checking index information ... OK
* checking package subdirectories ... OK
* checking R files for non-ASCII characters ... OK
* checking R files for syntax errors ... OK
* checking whether the package can be loaded ... OK
* checking whether the package can be loaded with stated dependencies ... OK
* checking whether the package can be unloaded cleanly ... OK
* checking whether the namespace can be loaded with stated dependencies ... OK
* checking whether the namespace can be unloaded cleanly ... OK
* checking dependencies in R code ... OK
* checking S3 generic/method consistency ... OK
* checking replacement functions ... OK
* checking foreign function calls ... OK
* checking R code for possible problems ... NOTE
compare_samples: no visible global function definition for ‘par’
compare_samples: no visible global function definition for ‘plot’
compare_samples: no visible global function definition for ‘lines’
fishertest_cpg: no visible global function definition for ‘fisher.test’
fishertest_cpg: no visible global function definition for ‘p.adjust’
fishertest_cpg: no visible global function definition for ‘barplot’
fishertest_cpg: no visible global function definition for ‘abline’
methAlign: no visible global function definition for ‘subject’
methAlign: no visible global function definition for ‘pattern’
nhmmer: no visible global function definition for ‘read.table’
nhmmer: no visible global function definition for ‘setNames’
Undefined global functions or variables:
abline barplot fisher.test lines p.adjust par pattern plot read.table
setNames subject
Consider adding
importFrom("graphics", "abline", "barplot", "lines", "par", "plot")
importFrom("stats", "fisher.test", "p.adjust", "setNames")
importFrom("utils", "read.table")
to your NAMESPACE file.
* checking Rd files ... OK
* checking Rd metadata ... OK
* checking Rd cross-references ... OK
* checking for missing documentation entries ... OK
* checking for code/documentation mismatches ... OK
* checking Rd \usage sections ... OK
* checking Rd contents ... OK
* checking for unstated dependencies in examples ... OK
* checking sizes of PDF files under ‘inst/doc’ ... OK
* checking files in ‘vignettes’ ... OK
* checking examples ... OK
Examples with CPU (user + system) or elapsed time > 5s
user system elapsed
compare_samples 7.277 0.230 7.510
fishertest_cpg 6.321 0.063 6.383
odd_ratio 6.224 0.140 6.365
* checking for unstated dependencies in vignettes ... OK
* checking package vignettes in ‘inst/doc’ ... OK
* checking running R code from vignettes ... SKIPPED
* checking re-building of vignette outputs ... SKIPPED
* checking PDF version of manual ... OK
* DONE
Status: 1 NOTE
See
‘/Users/biocbuild/bbs-3.11-bioc/meat/MethTargetedNGS.Rcheck/00check.log’
for details.
MethTargetedNGS.Rcheck/00install.out
############################################################################## ############################################################################## ### ### Running command: ### ### /Library/Frameworks/R.framework/Versions/Current/Resources/bin/R CMD INSTALL MethTargetedNGS ### ############################################################################## ############################################################################## * installing to library ‘/Library/Frameworks/R.framework/Versions/4.0/Resources/library’ * installing *source* package ‘MethTargetedNGS’ ... ** using staged installation ** R ** inst ** byte-compile and prepare package for lazy loading ** help *** installing help indices ** building package indices ** installing vignettes ** testing if installed package can be loaded from temporary location ** testing if installed package can be loaded from final location ** testing if installed package keeps a record of temporary installation path * DONE (MethTargetedNGS)
MethTargetedNGS.Rcheck/MethTargetedNGS-Ex.timings
| name | user | system | elapsed | |
| bconv | 0.004 | 0.001 | 0.007 | |
| compare_samples | 7.277 | 0.230 | 7.510 | |
| fishertest_cpg | 6.321 | 0.063 | 6.383 | |
| hmmbuild | 0.001 | 0.000 | 0.001 | |
| methAlign | 3.134 | 0.033 | 3.168 | |
| methAvg | 3.404 | 0.030 | 3.435 | |
| methEntropy | 3.154 | 0.028 | 3.184 | |
| methHeatmap | 2.865 | 0.027 | 2.893 | |
| nhmmer | 0.002 | 0.001 | 0.001 | |
| odd_ratio | 6.224 | 0.140 | 6.365 | |