| Back to Multiple platform build/check report for BioC 3.11 | 
 | 
This page was generated on 2020-01-16 13:54:01 -0500 (Thu, 16 Jan 2020).
| Package 109/1818 | Hostname | OS / Arch | INSTALL | BUILD | CHECK | BUILD BIN | ||||||
| BANDITS 1.3.2 Simone Tiberi 
 | malbec2 | Linux (Ubuntu 18.04.3 LTS) / x86_64 | OK | OK | OK |  | ||||||
| tokay2 | Windows Server 2012 R2 Standard / x64 | OK | OK | OK | OK |  | ||||||
| celaya2 | OS X 10.11.6 El Capitan / x86_64 | OK | [ OK ] | OK | OK |  | 
| Package: BANDITS | 
| Version: 1.3.2 | 
| Command: /Library/Frameworks/R.framework/Versions/Current/Resources/bin/R CMD build --keep-empty-dirs --no-resave-data BANDITS | 
| StartedAt: 2020-01-16 00:40:16 -0500 (Thu, 16 Jan 2020) | 
| EndedAt: 2020-01-16 00:44:08 -0500 (Thu, 16 Jan 2020) | 
| EllapsedTime: 231.3 seconds | 
| RetCode: 0 | 
| Status: OK | 
| PackageFile: BANDITS_1.3.2.tar.gz | 
| PackageFileSize: 1.246 MiB | 
############################################################################## ############################################################################## ### ### Running command: ### ### /Library/Frameworks/R.framework/Versions/Current/Resources/bin/R CMD build --keep-empty-dirs --no-resave-data BANDITS ### ############################################################################## ############################################################################## * checking for file ‘BANDITS/DESCRIPTION’ ... OK * preparing ‘BANDITS’: * checking DESCRIPTION meta-information ... OK * cleaning src * installing the package to process help pages * saving partial Rd database * creating vignettes ... OK * cleaning src * checking for LF line-endings in source and make files and shell scripts * checking for empty or unneeded directories * looking to see if a ‘data/datalist’ file should be added * building ‘BANDITS_1.3.2.tar.gz’