| Back to Multiple platform build/check report for BioC 3.11 |
|
This page was generated on 2020-01-16 13:34:12 -0500 (Thu, 16 Jan 2020).
| Package 548/1818 | Hostname | OS / Arch | INSTALL | BUILD | CHECK | BUILD BIN | ||||||
| exomeCopy 1.33.0 Michael Love
| malbec2 | Linux (Ubuntu 18.04.3 LTS) / x86_64 | OK | OK | OK | |||||||
| tokay2 | Windows Server 2012 R2 Standard / x64 | OK | OK | OK | OK | |||||||
| celaya2 | OS X 10.11.6 El Capitan / x86_64 | OK | [ OK ] | OK | OK |
| Package: exomeCopy |
| Version: 1.33.0 |
| Command: /Library/Frameworks/R.framework/Versions/Current/Resources/bin/R CMD build --keep-empty-dirs --no-resave-data exomeCopy |
| StartedAt: 2020-01-15 20:39:59 -0500 (Wed, 15 Jan 2020) |
| EndedAt: 2020-01-15 20:41:02 -0500 (Wed, 15 Jan 2020) |
| EllapsedTime: 62.5 seconds |
| RetCode: 0 |
| Status: OK |
| PackageFile: exomeCopy_1.33.0.tar.gz |
| PackageFileSize: 408.9 KiB |
############################################################################## ############################################################################## ### ### Running command: ### ### /Library/Frameworks/R.framework/Versions/Current/Resources/bin/R CMD build --keep-empty-dirs --no-resave-data exomeCopy ### ############################################################################## ############################################################################## * checking for file ‘exomeCopy/DESCRIPTION’ ... OK * preparing ‘exomeCopy’: * checking DESCRIPTION meta-information ... OK * cleaning src * installing the package to build vignettes * creating vignettes ... OK * cleaning src * checking for LF line-endings in source and make files and shell scripts * checking for empty or unneeded directories * looking to see if a ‘data/datalist’ file should be added * building ‘exomeCopy_1.33.0.tar.gz’