Back to Multiple platform build/check report for BioC 3.11 |
|
This page was generated on 2020-01-16 13:28:59 -0500 (Thu, 16 Jan 2020).
Package 920/1818 | Hostname | OS / Arch | INSTALL | BUILD | CHECK | BUILD BIN | ||||||
LPE 1.61.0 Nitin Jain
| malbec2 | Linux (Ubuntu 18.04.3 LTS) / x86_64 | OK | OK | OK | ![]() | ||||||
tokay2 | Windows Server 2012 R2 Standard / x64 | OK | OK | OK | OK | ![]() | ||||||
celaya2 | OS X 10.11.6 El Capitan / x86_64 | OK | OK | OK | [ OK ] | ![]() |
Package: LPE |
Version: 1.61.0 |
Command: rm -rf LPE.buildbin-libdir && mkdir LPE.buildbin-libdir && /Users/biocbuild/BBS/utils/build-universal.sh LPE_1.61.0.tar.gz /Library/Frameworks/R.framework/Versions/Current/Resources/bin/R LPE.buildbin-libdir |
StartedAt: 2020-01-16 11:12:40 -0500 (Thu, 16 Jan 2020) |
EndedAt: 2020-01-16 11:13:04 -0500 (Thu, 16 Jan 2020) |
EllapsedTime: 24.2 seconds |
RetCode: 0 |
Status: OK |
PackageFile: LPE_1.61.0.tgz |
PackageFileSize: 373.1 KiB |
############################################################################## ############################################################################## ### ### Running command: ### ### rm -rf LPE.buildbin-libdir && mkdir LPE.buildbin-libdir && /Users/biocbuild/BBS/utils/build-universal.sh LPE_1.61.0.tar.gz /Library/Frameworks/R.framework/Versions/Current/Resources/bin/R LPE.buildbin-libdir ### ############################################################################## ############################################################################## >>>>>>> >>>>>>> INSTALLATION WITH 'R CMD INSTALL --preclean --no-multiarch --library=LPE.buildbin-libdir LPE_1.61.0.tar.gz' >>>>>>> * installing *source* package ‘LPE’ ... ** using staged installation ** R ** data ** inst ** byte-compile and prepare package for lazy loading ** help *** installing help indices ** building package indices ** installing vignettes ** testing if installed package can be loaded from temporary location ** testing if installed package can be loaded from final location ** testing if installed package keeps a record of temporary installation path * DONE (LPE)