| Back to Multiple platform build/check report for BioC 3.11 | 
 | 
This page was generated on 2020-01-16 13:32:56 -0500 (Thu, 16 Jan 2020).
| Package 653/1818 | Hostname | OS / Arch | INSTALL | BUILD | CHECK | BUILD BIN | ||||||
| GeneGA 1.37.0 Zhenpeng Li 
 | malbec2 | Linux (Ubuntu 18.04.3 LTS) / x86_64 | OK | OK | OK |  | ||||||
| tokay2 | Windows Server 2012 R2 Standard / x64 | ...NOT SUPPORTED... | ||||||||||
| celaya2 | OS X 10.11.6 El Capitan / x86_64 | OK | [ OK ] | OK | OK |  | ||||||
| Package: GeneGA | 
| Version: 1.37.0 | 
| Command: /Library/Frameworks/R.framework/Versions/Current/Resources/bin/R CMD build --keep-empty-dirs --no-resave-data GeneGA | 
| StartedAt: 2020-01-15 20:26:24 -0500 (Wed, 15 Jan 2020) | 
| EndedAt: 2020-01-15 20:30:08 -0500 (Wed, 15 Jan 2020) | 
| EllapsedTime: 224.2 seconds | 
| RetCode: 0 | 
| Status: OK | 
| PackageFile: GeneGA_1.37.0.tar.gz | 
| PackageFileSize: 235.9 KiB | 
############################################################################## ############################################################################## ### ### Running command: ### ### /Library/Frameworks/R.framework/Versions/Current/Resources/bin/R CMD build --keep-empty-dirs --no-resave-data GeneGA ### ############################################################################## ############################################################################## * checking for file ‘GeneGA/DESCRIPTION’ ... OK * preparing ‘GeneGA’: * checking DESCRIPTION meta-information ... OK * installing the package to build vignettes * creating vignettes ... OK * checking for LF line-endings in source and make files and shell scripts * checking for empty or unneeded directories * looking to see if a ‘data/datalist’ file should be added * building ‘GeneGA_1.37.0.tar.gz’