| Back to Multiple platform build/check report for BioC 3.11 |
|
This page was generated on 2020-01-16 13:41:23 -0500 (Thu, 16 Jan 2020).
| Package 1422/1818 | Hostname | OS / Arch | INSTALL | BUILD | CHECK | BUILD BIN | ||||||
| rGREAT 1.19.0 Zuguang Gu
| malbec2 | Linux (Ubuntu 18.04.3 LTS) / x86_64 | OK | OK | OK | |||||||
| tokay2 | Windows Server 2012 R2 Standard / x64 | OK | OK | OK | OK | |||||||
| celaya2 | OS X 10.11.6 El Capitan / x86_64 | OK | [ OK ] | OK | OK |
| Package: rGREAT |
| Version: 1.19.0 |
| Command: /Library/Frameworks/R.framework/Versions/Current/Resources/bin/R CMD build --keep-empty-dirs --no-resave-data rGREAT |
| StartedAt: 2020-01-15 21:56:46 -0500 (Wed, 15 Jan 2020) |
| EndedAt: 2020-01-15 21:57:52 -0500 (Wed, 15 Jan 2020) |
| EllapsedTime: 66.2 seconds |
| RetCode: 0 |
| Status: OK |
| PackageFile: rGREAT_1.19.0.tar.gz |
| PackageFileSize: 944.9 KiB |
############################################################################## ############################################################################## ### ### Running command: ### ### /Library/Frameworks/R.framework/Versions/Current/Resources/bin/R CMD build --keep-empty-dirs --no-resave-data rGREAT ### ############################################################################## ############################################################################## * checking for file ‘rGREAT/DESCRIPTION’ ... OK * preparing ‘rGREAT’: * checking DESCRIPTION meta-information ... OK * installing the package to build vignettes * creating vignettes ... OK * checking for LF line-endings in source and make files and shell scripts * checking for empty or unneeded directories * building ‘rGREAT_1.19.0.tar.gz’