Back to Multiple platform build/check report for BioC 3.11 |
|
This page was generated on 2020-01-16 13:31:57 -0500 (Thu, 16 Jan 2020).
Package 1700/1818 | Hostname | OS / Arch | INSTALL | BUILD | CHECK | BUILD BIN | ||||||
TargetSearch 1.43.1 Alvaro Cuadros-Inostroza
| malbec2 | Linux (Ubuntu 18.04.3 LTS) / x86_64 | OK | OK | OK | |||||||
tokay2 | Windows Server 2012 R2 Standard / x64 | OK | OK | OK | NA | |||||||
celaya2 | OS X 10.11.6 El Capitan / x86_64 | OK | OK | [ OK ] | OK |
Package: TargetSearch |
Version: 1.43.1 |
Command: /Library/Frameworks/R.framework/Versions/Current/Resources/bin/R CMD check --install=check:TargetSearch.install-out.txt --library=/Library/Frameworks/R.framework/Versions/Current/Resources/library --no-vignettes --timings TargetSearch_1.43.1.tar.gz |
StartedAt: 2020-01-16 09:24:07 -0500 (Thu, 16 Jan 2020) |
EndedAt: 2020-01-16 09:25:49 -0500 (Thu, 16 Jan 2020) |
EllapsedTime: 102.0 seconds |
RetCode: 0 |
Status: OK |
CheckDir: TargetSearch.Rcheck |
Warnings: 0 |
############################################################################## ############################################################################## ### ### Running command: ### ### /Library/Frameworks/R.framework/Versions/Current/Resources/bin/R CMD check --install=check:TargetSearch.install-out.txt --library=/Library/Frameworks/R.framework/Versions/Current/Resources/library --no-vignettes --timings TargetSearch_1.43.1.tar.gz ### ############################################################################## ############################################################################## * using log directory ‘/Users/biocbuild/bbs-3.11-bioc/meat/TargetSearch.Rcheck’ * using R Under development (unstable) (2019-12-14 r77572) * using platform: x86_64-apple-darwin15.6.0 (64-bit) * using session charset: UTF-8 * using option ‘--no-vignettes’ * checking for file ‘TargetSearch/DESCRIPTION’ ... OK * checking extension type ... Package * this is package ‘TargetSearch’ version ‘1.43.1’ * checking package namespace information ... OK * checking package dependencies ... OK * checking if this is a source package ... OK * checking if there is a namespace ... OK * checking for hidden files and directories ... OK * checking for portable file names ... OK * checking for sufficient/correct file permissions ... OK * checking whether package ‘TargetSearch’ can be installed ... OK * checking installed package size ... OK * checking package directory ... OK * checking ‘build’ directory ... OK * checking DESCRIPTION meta-information ... OK * checking top-level files ... OK * checking for left-over files ... OK * checking index information ... OK * checking package subdirectories ... OK * checking R files for non-ASCII characters ... OK * checking R files for syntax errors ... OK * checking whether the package can be loaded ... OK * checking whether the package can be loaded with stated dependencies ... OK * checking whether the package can be unloaded cleanly ... OK * checking whether the namespace can be loaded with stated dependencies ... OK * checking whether the namespace can be unloaded cleanly ... OK * checking dependencies in R code ... OK * checking S3 generic/method consistency ... OK * checking replacement functions ... OK * checking foreign function calls ... OK * checking R code for possible problems ... OK * checking Rd files ... OK * checking Rd metadata ... OK * checking Rd cross-references ... OK * checking for missing documentation entries ... OK * checking for code/documentation mismatches ... OK * checking Rd \usage sections ... OK * checking Rd contents ... OK * checking for unstated dependencies in examples ... OK * checking contents of ‘data’ directory ... OK * checking data for non-ASCII characters ... OK * checking data for ASCII and uncompressed saves ... OK * checking line endings in C/C++/Fortran sources/headers ... OK * checking compiled code ... NOTE Note: information on .o files is not available * checking sizes of PDF files under ‘inst/doc’ ... OK * checking installed files from ‘inst/doc’ ... OK * checking files in ‘vignettes’ ... OK * checking examples ... OK Examples with CPU (user + system) or elapsed time > 5s user system elapsed RIcorrect 18.334 1.48 19.947 * checking for unstated dependencies in vignettes ... OK * checking package vignettes in ‘inst/doc’ ... OK * checking running R code from vignettes ... SKIPPED * checking re-building of vignette outputs ... SKIPPED * checking PDF version of manual ... OK * DONE Status: 1 NOTE See ‘/Users/biocbuild/bbs-3.11-bioc/meat/TargetSearch.Rcheck/00check.log’ for details.
TargetSearch.Rcheck/00install.out
############################################################################## ############################################################################## ### ### Running command: ### ### /Library/Frameworks/R.framework/Versions/Current/Resources/bin/R CMD INSTALL TargetSearch ### ############################################################################## ############################################################################## * installing to library ‘/Library/Frameworks/R.framework/Versions/4.0/Resources/library’ * installing *source* package ‘TargetSearch’ ... ** using staged installation ** libs clang -I"/Library/Frameworks/R.framework/Resources/include" -DNDEBUG -isysroot /Library/Developer/CommandLineTools/SDKs/MacOSX.sdk -I/usr/local/include -fPIC -Wall -g -O2 -c Rinit.c -o Rinit.o clang -I"/Library/Frameworks/R.framework/Resources/include" -DNDEBUG -isysroot /Library/Developer/CommandLineTools/SDKs/MacOSX.sdk -I/usr/local/include -fPIC -Wall -g -O2 -c baseline.c -o baseline.o clang -I"/Library/Frameworks/R.framework/Resources/include" -DNDEBUG -isysroot /Library/Developer/CommandLineTools/SDKs/MacOSX.sdk -I/usr/local/include -fPIC -Wall -g -O2 -c detection.c -o detection.o clang -I"/Library/Frameworks/R.framework/Resources/include" -DNDEBUG -isysroot /Library/Developer/CommandLineTools/SDKs/MacOSX.sdk -I/usr/local/include -fPIC -Wall -g -O2 -c file.c -o file.o clang -I"/Library/Frameworks/R.framework/Resources/include" -DNDEBUG -isysroot /Library/Developer/CommandLineTools/SDKs/MacOSX.sdk -I/usr/local/include -fPIC -Wall -g -O2 -c find_peaks.c -o find_peaks.o clang -I"/Library/Frameworks/R.framework/Resources/include" -DNDEBUG -isysroot /Library/Developer/CommandLineTools/SDKs/MacOSX.sdk -I/usr/local/include -fPIC -Wall -g -O2 -c getLine.c -o getLine.o clang -I"/Library/Frameworks/R.framework/Resources/include" -DNDEBUG -isysroot /Library/Developer/CommandLineTools/SDKs/MacOSX.sdk -I/usr/local/include -fPIC -Wall -g -O2 -c hpf.c -o hpf.o clang -I"/Library/Frameworks/R.framework/Resources/include" -DNDEBUG -isysroot /Library/Developer/CommandLineTools/SDKs/MacOSX.sdk -I/usr/local/include -fPIC -Wall -g -O2 -c matrix.c -o matrix.o clang -I"/Library/Frameworks/R.framework/Resources/include" -DNDEBUG -isysroot /Library/Developer/CommandLineTools/SDKs/MacOSX.sdk -I/usr/local/include -fPIC -Wall -g -O2 -c ncdf.c -o ncdf.o clang -I"/Library/Frameworks/R.framework/Resources/include" -DNDEBUG -isysroot /Library/Developer/CommandLineTools/SDKs/MacOSX.sdk -I/usr/local/include -fPIC -Wall -g -O2 -c peak.c -o peak.o clang -I"/Library/Frameworks/R.framework/Resources/include" -DNDEBUG -isysroot /Library/Developer/CommandLineTools/SDKs/MacOSX.sdk -I/usr/local/include -fPIC -Wall -g -O2 -c utils.c -o utils.o clang -dynamiclib -Wl,-headerpad_max_install_names -undefined dynamic_lookup -single_module -multiply_defined suppress -L/Library/Frameworks/R.framework/Resources/lib -L/usr/local/lib -o TargetSearch.so Rinit.o baseline.o detection.o file.o find_peaks.o getLine.o hpf.o matrix.o ncdf.o peak.o utils.o -F/Library/Frameworks/R.framework/.. -framework R -Wl,-framework -Wl,CoreFoundation installing to /Library/Frameworks/R.framework/Versions/4.0/Resources/library/00LOCK-TargetSearch/00new/TargetSearch/libs ** R ** data ** inst ** byte-compile and prepare package for lazy loading ** help *** installing help indices ** building package indices ** installing vignettes ‘RICorrection.Rnw’ ‘TargetSearch.Rnw’ ** testing if installed package can be loaded from temporary location ** checking absolute paths in shared objects and dynamic libraries ** testing if installed package can be loaded from final location ** testing if installed package keeps a record of temporary installation path * DONE (TargetSearch)
TargetSearch.Rcheck/TargetSearch-Ex.timings
name | user | system | elapsed | |
FAMEoutliers | 0.049 | 0.006 | 0.056 | |
FindAllPeaks | 1.245 | 0.098 | 1.355 | |
FindPeaks | 0.428 | 0.024 | 0.453 | |
ImportFameSettings | 0.014 | 0.002 | 0.016 | |
ImportLibrary | 0.039 | 0.002 | 0.041 | |
ImportSamples | 0.021 | 0.004 | 0.026 | |
NetCDFPeakFinding | 0.391 | 0.062 | 0.458 | |
Profile | 1.499 | 0.065 | 1.565 | |
ProfileCleanUp | 1.336 | 0.068 | 1.405 | |
RIcorrect | 18.334 | 1.480 | 19.947 | |
TSExample | 2.895 | 0.279 | 3.173 | |
checkRimLim | 0.364 | 0.023 | 0.386 | |
fixRI | 1.654 | 0.109 | 1.764 | |
medianRILib | 0.893 | 0.046 | 0.939 | |
ncdf4Convert-method | 0.164 | 0.007 | 0.171 | |
ncdf4_convert | 0.058 | 0.003 | 0.059 | |
ncdf4_convert_from_path | 0.000 | 0.001 | 0.000 | |
ncdf4_data_extract | 0.000 | 0.001 | 0.001 | |
peakFind | 0.457 | 0.031 | 0.489 | |
plotFAME | 0.031 | 0.006 | 0.047 | |
plotPeak | 0.341 | 0.025 | 0.366 | |
plotPeakRI | 1.242 | 0.064 | 1.307 | |
plotPeakSimple | 0.599 | 0.041 | 0.641 | |
plotRIdev | 0.734 | 0.025 | 0.760 | |
plotSpectra | 0.453 | 0.031 | 0.484 | |
quantMatrix | 1.478 | 0.065 | 1.542 | |
ri2rt | 0.006 | 0.000 | 0.007 | |
riMatrix | 1.575 | 0.104 | 1.679 | |
rt2ri | 0.007 | 0.001 | 0.007 | |
sampleRI | 0.896 | 0.043 | 0.940 | |
tsLib-class | 0.044 | 0.006 | 0.050 | |
tsMSdata-class | 0.002 | 0.000 | 0.002 | |
tsProfile-class | 0.001 | 0.001 | 0.002 | |
tsRim-class | 0.003 | 0.001 | 0.004 | |
tsSample-class | 0.033 | 0.003 | 0.037 | |
tsUpdate-method | 0 | 0 | 0 | |
writeLibText | 0.036 | 0.001 | 0.038 | |