| Back to Multiple platform build/check report for BioC 3.11 |
|
This page was generated on 2020-01-16 13:37:11 -0500 (Thu, 16 Jan 2020).
| Package 1063/1818 | Hostname | OS / Arch | INSTALL | BUILD | CHECK | BUILD BIN | ||||||
| mitoODE 1.25.0 Gregoire Pau
| malbec2 | Linux (Ubuntu 18.04.3 LTS) / x86_64 | OK | OK | OK | |||||||
| tokay2 | Windows Server 2012 R2 Standard / x64 | OK | OK | OK | OK | |||||||
| celaya2 | OS X 10.11.6 El Capitan / x86_64 | OK | [ OK ] | OK | OK |
| Package: mitoODE |
| Version: 1.25.0 |
| Command: /Library/Frameworks/R.framework/Versions/Current/Resources/bin/R CMD build --keep-empty-dirs --no-resave-data mitoODE |
| StartedAt: 2020-01-15 21:10:17 -0500 (Wed, 15 Jan 2020) |
| EndedAt: 2020-01-15 21:11:20 -0500 (Wed, 15 Jan 2020) |
| EllapsedTime: 63.7 seconds |
| RetCode: 0 |
| Status: OK |
| PackageFile: mitoODE_1.25.0.tar.gz |
| PackageFileSize: 455.1 KiB |
############################################################################## ############################################################################## ### ### Running command: ### ### /Library/Frameworks/R.framework/Versions/Current/Resources/bin/R CMD build --keep-empty-dirs --no-resave-data mitoODE ### ############################################################################## ############################################################################## * checking for file ‘mitoODE/DESCRIPTION’ ... OK * preparing ‘mitoODE’: * checking DESCRIPTION meta-information ... OK * cleaning src * installing the package to build vignettes * creating vignettes ... OK * cleaning src * checking for LF line-endings in source and make files and shell scripts * checking for empty or unneeded directories * building ‘mitoODE_1.25.0.tar.gz’