| Back to Multiple platform build/check report for BioC 3.11 |
|
This page was generated on 2020-01-16 13:33:32 -0500 (Thu, 16 Jan 2020).
| Package 1402/1818 | Hostname | OS / Arch | INSTALL | BUILD | CHECK | BUILD BIN | ||||||
| REDseq 1.33.1 Lihua Julie Zhu
| malbec2 | Linux (Ubuntu 18.04.3 LTS) / x86_64 | OK | OK | OK | |||||||
| tokay2 | Windows Server 2012 R2 Standard / x64 | OK | OK | OK | OK | |||||||
| celaya2 | OS X 10.11.6 El Capitan / x86_64 | OK | OK | OK | [ OK ] |
| Package: REDseq |
| Version: 1.33.1 |
| Command: rm -rf REDseq.buildbin-libdir && mkdir REDseq.buildbin-libdir && /Users/biocbuild/BBS/utils/build-universal.sh REDseq_1.33.1.tar.gz /Library/Frameworks/R.framework/Versions/Current/Resources/bin/R REDseq.buildbin-libdir |
| StartedAt: 2020-01-16 11:37:53 -0500 (Thu, 16 Jan 2020) |
| EndedAt: 2020-01-16 11:38:50 -0500 (Thu, 16 Jan 2020) |
| EllapsedTime: 57.6 seconds |
| RetCode: 0 |
| Status: OK |
| PackageFile: REDseq_1.33.1.tgz |
| PackageFileSize: 233.8 KiB |
############################################################################## ############################################################################## ### ### Running command: ### ### rm -rf REDseq.buildbin-libdir && mkdir REDseq.buildbin-libdir && /Users/biocbuild/BBS/utils/build-universal.sh REDseq_1.33.1.tar.gz /Library/Frameworks/R.framework/Versions/Current/Resources/bin/R REDseq.buildbin-libdir ### ############################################################################## ############################################################################## >>>>>>> >>>>>>> INSTALLATION WITH 'R CMD INSTALL --preclean --no-multiarch --library=REDseq.buildbin-libdir REDseq_1.33.1.tar.gz' >>>>>>> * installing *source* package ‘REDseq’ ... ** using staged installation ** R ** data ** inst ** byte-compile and prepare package for lazy loading No methods found in package 'IRanges' for requests: '%in%', 'rep.int' when loading 'REDseq' ** help *** installing help indices ** building package indices ** installing vignettes ** testing if installed package can be loaded from temporary location No methods found in package 'IRanges' for requests: '%in%', 'rep.int' when loading 'REDseq' ** testing if installed package can be loaded from final location No methods found in package 'IRanges' for requests: '%in%', 'rep.int' when loading 'REDseq' ** testing if installed package keeps a record of temporary installation path * DONE (REDseq)