| Back to Multiple platform build/check report for BioC 3.11 |
|
This page was generated on 2020-01-16 13:32:40 -0500 (Thu, 16 Jan 2020).
| Package 603/1818 | Hostname | OS / Arch | INSTALL | BUILD | CHECK | BUILD BIN | ||||||
| flowTrans 1.39.1 Greg Finak
| malbec2 | Linux (Ubuntu 18.04.3 LTS) / x86_64 | OK | OK | OK | |||||||
| tokay2 | Windows Server 2012 R2 Standard / x64 | OK | OK | OK | OK | |||||||
| celaya2 | OS X 10.11.6 El Capitan / x86_64 | OK | OK | OK | [ OK ] |
| Package: flowTrans |
| Version: 1.39.1 |
| Command: rm -rf flowTrans.buildbin-libdir && mkdir flowTrans.buildbin-libdir && /Users/biocbuild/BBS/utils/build-universal.sh flowTrans_1.39.1.tar.gz /Library/Frameworks/R.framework/Versions/Current/Resources/bin/R flowTrans.buildbin-libdir |
| StartedAt: 2020-01-16 10:55:32 -0500 (Thu, 16 Jan 2020) |
| EndedAt: 2020-01-16 10:55:50 -0500 (Thu, 16 Jan 2020) |
| EllapsedTime: 17.4 seconds |
| RetCode: 0 |
| Status: OK |
| PackageFile: flowTrans_1.39.1.tgz |
| PackageFileSize: 472.6 KiB |
############################################################################## ############################################################################## ### ### Running command: ### ### rm -rf flowTrans.buildbin-libdir && mkdir flowTrans.buildbin-libdir && /Users/biocbuild/BBS/utils/build-universal.sh flowTrans_1.39.1.tar.gz /Library/Frameworks/R.framework/Versions/Current/Resources/bin/R flowTrans.buildbin-libdir ### ############################################################################## ############################################################################## >>>>>>> >>>>>>> INSTALLATION WITH 'R CMD INSTALL --preclean --no-multiarch --library=flowTrans.buildbin-libdir flowTrans_1.39.1.tar.gz' >>>>>>> * installing *source* package ‘flowTrans’ ... ** using staged installation ** R ** inst ** byte-compile and prepare package for lazy loading ** help *** installing help indices ** building package indices ** installing vignettes ** testing if installed package can be loaded from temporary location ** testing if installed package can be loaded from final location ** testing if installed package keeps a record of temporary installation path * DONE (flowTrans)