| Back to Multiple platform build/check report for BioC 3.11 |
|
This page was generated on 2020-01-16 13:35:55 -0500 (Thu, 16 Jan 2020).
| Package 1434/1818 | Hostname | OS / Arch | INSTALL | BUILD | CHECK | BUILD BIN | ||||||
Yue Li
| malbec2 | Linux (Ubuntu 18.04.3 LTS) / x86_64 | OK | OK | ERROR | |||||||
| tokay2 | Windows Server 2012 R2 Standard / x64 | OK | OK | ERROR | OK | |||||||
| celaya2 | OS X 10.11.6 El Capitan / x86_64 | OK | [ OK ] | ERROR | OK |
| Package: RIPSeeker |
| Version: 1.27.1 |
| Command: /Library/Frameworks/R.framework/Versions/Current/Resources/bin/R CMD build --keep-empty-dirs --no-resave-data RIPSeeker |
| StartedAt: 2020-01-15 20:58:23 -0500 (Wed, 15 Jan 2020) |
| EndedAt: 2020-01-15 20:59:43 -0500 (Wed, 15 Jan 2020) |
| EllapsedTime: 79.6 seconds |
| RetCode: 0 |
| Status: OK |
| PackageFile: RIPSeeker_1.27.1.tar.gz |
| PackageFileSize: 1.895 MiB |
############################################################################## ############################################################################## ### ### Running command: ### ### /Library/Frameworks/R.framework/Versions/Current/Resources/bin/R CMD build --keep-empty-dirs --no-resave-data RIPSeeker ### ############################################################################## ############################################################################## * checking for file ‘RIPSeeker/DESCRIPTION’ ... OK * preparing ‘RIPSeeker’: * checking DESCRIPTION meta-information ... OK * installing the package to build vignettes * creating vignettes ... OK * checking for LF line-endings in source and make files and shell scripts * checking for empty or unneeded directories * building ‘RIPSeeker_1.27.1.tar.gz’