| Back to Multiple platform build/check report for BioC 3.11 |
|
This page was generated on 2020-01-16 13:35:08 -0500 (Thu, 16 Jan 2020).
| Package 1202/1818 | Hostname | OS / Arch | INSTALL | BUILD | CHECK | BUILD BIN | ||||||
| OSAT 1.35.0 Li Yan
| malbec2 | Linux (Ubuntu 18.04.3 LTS) / x86_64 | OK | OK | OK | |||||||
| tokay2 | Windows Server 2012 R2 Standard / x64 | OK | OK | OK | OK | |||||||
| celaya2 | OS X 10.11.6 El Capitan / x86_64 | OK | OK | [ OK ] | OK |
| Package: OSAT |
| Version: 1.35.0 |
| Command: /Library/Frameworks/R.framework/Versions/Current/Resources/bin/R CMD check --install=check:OSAT.install-out.txt --library=/Library/Frameworks/R.framework/Versions/Current/Resources/library --no-vignettes --timings OSAT_1.35.0.tar.gz |
| StartedAt: 2020-01-16 07:11:43 -0500 (Thu, 16 Jan 2020) |
| EndedAt: 2020-01-16 07:12:36 -0500 (Thu, 16 Jan 2020) |
| EllapsedTime: 53.1 seconds |
| RetCode: 0 |
| Status: OK |
| CheckDir: OSAT.Rcheck |
| Warnings: 0 |
##############################################################################
##############################################################################
###
### Running command:
###
### /Library/Frameworks/R.framework/Versions/Current/Resources/bin/R CMD check --install=check:OSAT.install-out.txt --library=/Library/Frameworks/R.framework/Versions/Current/Resources/library --no-vignettes --timings OSAT_1.35.0.tar.gz
###
##############################################################################
##############################################################################
* using log directory ‘/Users/biocbuild/bbs-3.11-bioc/meat/OSAT.Rcheck’
* using R Under development (unstable) (2019-12-14 r77572)
* using platform: x86_64-apple-darwin15.6.0 (64-bit)
* using session charset: UTF-8
* using option ‘--no-vignettes’
* checking for file ‘OSAT/DESCRIPTION’ ... OK
* checking extension type ... Package
* this is package ‘OSAT’ version ‘1.35.0’
* checking package namespace information ... OK
* checking package dependencies ... OK
* checking if this is a source package ... OK
* checking if there is a namespace ... OK
* checking for hidden files and directories ... OK
* checking for portable file names ... OK
* checking for sufficient/correct file permissions ... OK
* checking whether package ‘OSAT’ can be installed ... OK
* checking installed package size ... OK
* checking package directory ... OK
* checking ‘build’ directory ... OK
* checking DESCRIPTION meta-information ... OK
* checking top-level files ... OK
* checking for left-over files ... OK
* checking index information ... OK
* checking package subdirectories ... OK
* checking R files for non-ASCII characters ... OK
* checking R files for syntax errors ... OK
* checking whether the package can be loaded ... OK
* checking whether the package can be loaded with stated dependencies ... OK
* checking whether the package can be unloaded cleanly ... OK
* checking whether the namespace can be loaded with stated dependencies ... OK
* checking whether the namespace can be unloaded cleanly ... OK
* checking dependencies in R code ... OK
* checking S3 generic/method consistency ... OK
* checking replacement functions ... OK
* checking foreign function calls ... OK
* checking R code for possible problems ... NOTE
assign.sample.to.container: no visible global function definition for
‘head’
barplot.gExperimentSetup: no visible global function definition for
‘layout’
barplot.gExperimentSetup: no visible global function definition for
‘barplot’
barplot.gExperimentSetup: no visible global function definition for
‘gray’
barplot.gExperimentSetup: no visible global function definition for
‘points’
barplot.gExperimentSetup: no visible global function definition for
‘mtext’
multi.barplot: no visible global function definition for ‘layout’
multi.barplot: no visible global function definition for ‘barplot’
multi.barplot: no visible global function definition for ‘gray’
multi.barplot: no visible global function definition for ‘mtext’
show,gAssembly: no visible global function definition for ‘head’
show,gAssembly: no visible global function definition for ‘tail’
show,gContainer: no visible global function definition for ‘head’
show,gContainer: no visible global function definition for ‘tail’
show,gExperimentSetup: no visible global function definition for ‘head’
show,gExperimentSetup: no visible global function definition for ‘tail’
show,gPlate: no visible global function definition for ‘head’
show,gPlate: no visible global function definition for ‘tail’
show,gSample: no visible global function definition for ‘head’
show,gSample: no visible global function definition for ‘tail’
Undefined global functions or variables:
barplot gray head layout mtext points tail
Consider adding
importFrom("grDevices", "gray")
importFrom("graphics", "barplot", "layout", "mtext", "points")
importFrom("utils", "head", "tail")
to your NAMESPACE file.
* checking Rd files ... OK
* checking Rd metadata ... OK
* checking Rd cross-references ... OK
* checking for missing documentation entries ... OK
* checking for code/documentation mismatches ... OK
* checking Rd \usage sections ... OK
* checking Rd contents ... OK
* checking for unstated dependencies in examples ... OK
* checking contents of ‘data’ directory ... OK
* checking data for non-ASCII characters ... OK
* checking data for ASCII and uncompressed saves ... OK
* checking sizes of PDF files under ‘inst/doc’ ... OK
* checking files in ‘vignettes’ ... OK
* checking examples ... OK
* checking for unstated dependencies in vignettes ... OK
* checking package vignettes in ‘inst/doc’ ... OK
* checking running R code from vignettes ... SKIPPED
* checking re-building of vignette outputs ... SKIPPED
* checking PDF version of manual ... OK
* DONE
Status: 1 NOTE
See
‘/Users/biocbuild/bbs-3.11-bioc/meat/OSAT.Rcheck/00check.log’
for details.
OSAT.Rcheck/00install.out
############################################################################## ############################################################################## ### ### Running command: ### ### /Library/Frameworks/R.framework/Versions/Current/Resources/bin/R CMD INSTALL OSAT ### ############################################################################## ############################################################################## * installing to library ‘/Library/Frameworks/R.framework/Versions/4.0/Resources/library’ * installing *source* package ‘OSAT’ ... ** using staged installation ** R ** data ** inst ** byte-compile and prepare package for lazy loading ** help *** installing help indices ** building package indices ** installing vignettes ** testing if installed package can be loaded from temporary location ** testing if installed package can be loaded from final location ** testing if installed package keeps a record of temporary installation path * DONE (OSAT)
OSAT.Rcheck/OSAT-Ex.timings
| name | user | system | elapsed | |
| BeadChip-class | 0.010 | 0.001 | 0.012 | |
| BeadPlate-class | 0.008 | 0.001 | 0.009 | |
| MSAroboticPlate-class | 0.416 | 0.030 | 0.447 | |
| QC | 1.871 | 0.047 | 1.918 | |
| create.optimized.setup | 1.809 | 0.042 | 1.850 | |
| example.setup | 0.049 | 0.009 | 0.059 | |
| gContainer-class | 0.030 | 0.003 | 0.033 | |
| gExperimentSetup-class | 0.100 | 0.005 | 0.105 | |
| gSample-class | 0.021 | 0.001 | 0.021 | |
| gSlide-class | 0.049 | 0.000 | 0.049 | |
| get.experiment.setup | 1.548 | 0.016 | 1.564 | |
| multi.barplot | 0.017 | 0.004 | 0.022 | |
| multi.chisq.test | 0.021 | 0.004 | 0.025 | |
| optimal.block | 2.739 | 0.015 | 2.755 | |
| optimal.shuffle | 1.911 | 0.155 | 2.065 | |